BEGIN:VCALENDAR
VERSION:2.0
PRODID:-//Operations Training Calendar | SIG - ECPv6.15.11//NONSGML v1.0//EN
CALSCALE:GREGORIAN
METHOD:PUBLISH
X-WR-CALNAME:Operations Training Calendar | SIG
X-ORIGINAL-URL:https://hr-saniikos.com
X-WR-CALDESC:Events for Operations Training Calendar | SIG
REFRESH-INTERVAL;VALUE=DURATION:PT1H
X-Robots-Tag:noindex
X-PUBLISHED-TTL:PT1H
BEGIN:VTIMEZONE
TZID:Europe/Athens
BEGIN:DAYLIGHT
TZOFFSETFROM:+0200
TZOFFSETTO:+0300
TZNAME:EEST
DTSTART:20250330T010000
END:DAYLIGHT
BEGIN:STANDARD
TZOFFSETFROM:+0300
TZOFFSETTO:+0200
TZNAME:EET
DTSTART:20251026T010000
END:STANDARD
BEGIN:DAYLIGHT
TZOFFSETFROM:+0200
TZOFFSETTO:+0300
TZNAME:EEST
DTSTART:20260329T010000
END:DAYLIGHT
BEGIN:STANDARD
TZOFFSETFROM:+0300
TZOFFSETTO:+0200
TZNAME:EET
DTSTART:20261025T010000
END:STANDARD
BEGIN:DAYLIGHT
TZOFFSETFROM:+0200
TZOFFSETTO:+0300
TZNAME:EEST
DTSTART:20270328T010000
END:DAYLIGHT
BEGIN:STANDARD
TZOFFSETFROM:+0300
TZOFFSETTO:+0200
TZNAME:EET
DTSTART:20271031T010000
END:STANDARD
END:VTIMEZONE
BEGIN:VEVENT
DTSTART;TZID=Europe/Athens:20260225T100000
DTEND;TZID=Europe/Athens:20260225T120000
DTSTAMP:20260420T213733
CREATED:20260205T082015Z
LAST-MODIFIED:20260311T081055Z
UID:10000177-1772013600-1772020800@hr-saniikos.com
SUMMARY:Fire Safety Training – Evacuation (Fire Department) IDA-IOD
DESCRIPTION:Training by the local Fire Brigade.  \nThis session will cover: \n\ngeneral fire safety principles\,\nthe use of fire extinguishers\,\nand building evacuation procedures.\n\nParticipation: as many employees as possible (fundamental fire safety topics).
URL:https://hr-saniikos.com/training/fire-safety-training-evacuation-fire-department-ida-iod/
LOCATION:Ikos Dassia
CATEGORIES:Safety & Security
END:VEVENT
BEGIN:VEVENT
DTSTART;TZID=Europe/Athens:20260226T090000
DTEND;TZID=Europe/Athens:20260226T150000
DTSTAMP:20260420T213733
CREATED:20260311T081503Z
LAST-MODIFIED:20260311T081503Z
UID:10000221-1772096400-1772118000@hr-saniikos.com
SUMMARY:Fire Safety Training – Advanced Fire Truck IDA-IOD
DESCRIPTION:Training by the local Fire Brigade.  \nIntervention and fire suppression using breathing apparatus in compartmentalized enclosed. \nParticipation: Security Managers\, Maintenance\, Security Officers
URL:https://hr-saniikos.com/training/fire-safety-training-advanced-fire-truck-ida-iod/
LOCATION:Ikos Dassia
CATEGORIES:Safety & Security
END:VEVENT
BEGIN:VEVENT
DTSTART;TZID=Europe/Athens:20260227T090000
DTEND;TZID=Europe/Athens:20260227T150000
DTSTAMP:20260420T213733
CREATED:20260311T081750Z
LAST-MODIFIED:20260311T081750Z
UID:10000222-1772182800-1772204400@hr-saniikos.com
SUMMARY:Fire Safety Training – Fire Truck IDA-IOD
DESCRIPTION:Training by the local Fire Brigade.  \nFire suppression using fire extinguishers in enclosed (urban) environments. \nParticipation: Heads of Department and Supervisors selected members from their teams
URL:https://hr-saniikos.com/training/fire-safety-training-fire-truck-ida-iod/
LOCATION:Ikos Dassia
CATEGORIES:Safety & Security
END:VEVENT
END:VCALENDAR