BEGIN:VCALENDAR
VERSION:2.0
PRODID:-//Operations Training Calendar | SIG - ECPv6.15.11//NONSGML v1.0//EN
CALSCALE:GREGORIAN
METHOD:PUBLISH
X-ORIGINAL-URL:https://hr-saniikos.com
X-WR-CALDESC:Events for Operations Training Calendar | SIG
REFRESH-INTERVAL;VALUE=DURATION:PT1H
X-Robots-Tag:noindex
X-PUBLISHED-TTL:PT1H
BEGIN:VTIMEZONE
TZID:Europe/Athens
BEGIN:DAYLIGHT
TZOFFSETFROM:+0200
TZOFFSETTO:+0300
TZNAME:EEST
DTSTART:20250330T010000
END:DAYLIGHT
BEGIN:STANDARD
TZOFFSETFROM:+0300
TZOFFSETTO:+0200
TZNAME:EET
DTSTART:20251026T010000
END:STANDARD
BEGIN:DAYLIGHT
TZOFFSETFROM:+0200
TZOFFSETTO:+0300
TZNAME:EEST
DTSTART:20260329T010000
END:DAYLIGHT
BEGIN:STANDARD
TZOFFSETFROM:+0300
TZOFFSETTO:+0200
TZNAME:EET
DTSTART:20261025T010000
END:STANDARD
BEGIN:DAYLIGHT
TZOFFSETFROM:+0200
TZOFFSETTO:+0300
TZNAME:EEST
DTSTART:20270328T010000
END:DAYLIGHT
BEGIN:STANDARD
TZOFFSETFROM:+0300
TZOFFSETTO:+0200
TZNAME:EET
DTSTART:20271031T010000
END:STANDARD
END:VTIMEZONE
BEGIN:VEVENT
DTSTART;TZID=Europe/Athens:20260304T150000
DTEND;TZID=Europe/Athens:20260304T163000
DTSTAMP:20260420T214640
CREATED:20260212T082616Z
LAST-MODIFIED:20260225T132045Z
UID:10000181-1772636400-1772641800@hr-saniikos.com
SUMMARY:Empathy Under Pressure: Staying Human in Challenging Times [GR]
DESCRIPTION:In this seminar\, Dr Nikolaos Dimitriadis presents the neuroscience of empathy\, how we connect to other people and what we can do to improve it. He is explaining different empathy types\, their barriers and how to boost them within and outside the company. 
URL:https://hr-saniikos.com/training/empathy-under-pressure-staying-human-in-challenging-times-gr/
LOCATION:Ikos Aria
CATEGORIES:Masterclass Series
END:VEVENT
BEGIN:VEVENT
DTSTART;TZID=Europe/Athens:20260226T150000
DTEND;TZID=Europe/Athens:20260226T163000
DTSTAMP:20260420T214640
CREATED:20260212T081948Z
LAST-MODIFIED:20260225T132025Z
UID:10000180-1772118000-1772123400@hr-saniikos.com
SUMMARY:A Journey to Conscious Leadership (Viaje al Liderazgo Consciente) [ES]
DESCRIPTION:High-impact inspirational keynote by Pedro Díaz Ridao (author of Better Leaders and Viaje al Liderazgo Consciente)\, in which we will explore the elements we need to develop at both an individual and team level in order to grow and make the most of the opportunities that arise in our environment\, how to improve through change\, and how to move into action. A perspective on slowing down in order to gain momentum\, on optimism in the face of new challenges\, and on the importance of being well aligned. We will learn from inspiring examples from the world of sports to strengthen a sense of belonging and to highlight the importance of developing our own talent and that of the people around us. 
URL:https://hr-saniikos.com/training/a-journey-to-conscious-leadership-viaje-al-liderazgo-consciente-es/
LOCATION:Ikos Andalusia
CATEGORIES:Masterclass Series
END:VEVENT
BEGIN:VEVENT
DTSTART;TZID=Europe/Athens:20260224T150000
DTEND;TZID=Europe/Athens:20260224T163000
DTSTAMP:20260420T214640
CREATED:20260212T081156Z
LAST-MODIFIED:20260225T131946Z
UID:10000179-1771945200-1771950600@hr-saniikos.com
SUMMARY:The Aesthetic Leader: How Atmosphere Shapes Influence [EN]
DESCRIPTION:This Masterclass introduces Aesthetic Leadership as a practice of leading through presence\, atmosphere and sensory awareness rather than formal authority. Through vivid examples from hospitality and service\, Marc Stierand reveals how everyday actions can become meaningful expressions of leadership. 
URL:https://hr-saniikos.com/training/the-aesthetic-leader-how-atmosphere-shapes-influence-en/
LOCATION:Ikos Andalusia
CATEGORIES:Masterclass Series
END:VEVENT
BEGIN:VEVENT
DTSTART;TZID=Europe/Athens:20260218T150000
DTEND;TZID=Europe/Athens:20260218T163000
DTSTAMP:20260420T214640
CREATED:20260212T080809Z
LAST-MODIFIED:20260212T080842Z
UID:10000178-1771426800-1771432200@hr-saniikos.com
SUMMARY:The Listening Leader: Mastering the Most Underrated Skill [EN]
DESCRIPTION:The purpose of “The Listening Leader”\, is inspire leaders providing the insights and tools needed to deepen their capacity to listen with intention\, discern facts from feelings\, and respond with clarity and empathy. Drawing on insights from leading experts and today’s most successful leaders\, this course will focus on active listening\, empathetic communication\, as and will explore practical tools for meeting people where they are\, strengthening connection\, and fostering trust. This experience equips leaders to elevate conversations\, reduce misunderstandings\, and cultivate a more inclusive and responsive leadership presence.
URL:https://hr-saniikos.com/training/the-listening-leader-mastering-the-most-underrated-skill-en/
LOCATION:Ikos Andalusia
CATEGORIES:Masterclass Series
END:VEVENT
END:VCALENDAR