BEGIN:VCALENDAR
VERSION:2.0
PRODID:-//Operations Training Calendar | SIG - ECPv6.15.11//NONSGML v1.0//EN
CALSCALE:GREGORIAN
METHOD:PUBLISH
X-WR-CALNAME:Operations Training Calendar | SIG
X-ORIGINAL-URL:https://hr-saniikos.com
X-WR-CALDESC:Events for Operations Training Calendar | SIG
REFRESH-INTERVAL;VALUE=DURATION:PT1H
X-Robots-Tag:noindex
X-PUBLISHED-TTL:PT1H
BEGIN:VTIMEZONE
TZID:Europe/Athens
BEGIN:DAYLIGHT
TZOFFSETFROM:+0200
TZOFFSETTO:+0300
TZNAME:EEST
DTSTART:20250330T010000
END:DAYLIGHT
BEGIN:STANDARD
TZOFFSETFROM:+0300
TZOFFSETTO:+0200
TZNAME:EET
DTSTART:20251026T010000
END:STANDARD
BEGIN:DAYLIGHT
TZOFFSETFROM:+0200
TZOFFSETTO:+0300
TZNAME:EEST
DTSTART:20260329T010000
END:DAYLIGHT
BEGIN:STANDARD
TZOFFSETFROM:+0300
TZOFFSETTO:+0200
TZNAME:EET
DTSTART:20261025T010000
END:STANDARD
BEGIN:DAYLIGHT
TZOFFSETFROM:+0200
TZOFFSETTO:+0300
TZNAME:EEST
DTSTART:20270328T010000
END:DAYLIGHT
BEGIN:STANDARD
TZOFFSETFROM:+0300
TZOFFSETTO:+0200
TZNAME:EET
DTSTART:20271031T010000
END:STANDARD
END:VTIMEZONE
BEGIN:VEVENT
DTSTART;TZID=Europe/Athens:20260406T093000
DTEND;TZID=Europe/Athens:20260408T170000
DTSTAMP:20260420T213610
CREATED:20260313T161635Z
LAST-MODIFIED:20260324T123442Z
UID:10000253-1775467800-1775667600@hr-saniikos.com
SUMMARY:Management Essentials | IKI 2 round
DESCRIPTION:Agenda 06/04\n\nL&D (eLp\, D2D\, Induction\, Ops Training Calendar\, Leadership Essentials) | 09:30-10:30\nInduction for New Managers/ Train The Trainer (Facilitation Methodology) | 11:15-13:30\nPerformance Management Alignment | 14:45-15:45\nTalent Development Tools (R&A\, Feedback channels) | 16:00-16:15\n\nAgenda 07/04\n\nL&D (eLp\, D2D\, Induction\, Ops Training Calendar\, Leadership Essentials) | 09:30-10:30\nInduction for New Managers/ Train The Trainer (Facilitation Methodology) | 11:15-13:30\nPerformance Management Alignment | 14:45-15:45\nTalent Development Tools (R&A\, Feedback channels) | 16:00-16:15\n\nAgenda 08/04\n\nHR Essentials | 09:30-11:00\nGDPR & Compliance Training | 11:15-12:00\nGuest Experience Essentials | 12:15-13:00\nOPEX/CAPEX/Payroll (MIS) | 14:00-15:30\nSustainability Highlights | 15:45-16:30\n\nSIG Management Essentials Training Program
URL:https://hr-saniikos.com/training/management-essentials-iki-2-round/
LOCATION:Ikos Kissamos
CATEGORIES:Management Essentials
ATTACH;FMTTYPE=image/jpeg:https://hr-saniikos.com/wp-content/uploads/2025/10/Sani-Resort-_-Rafa-Nadal-Tennis-Center-_-Court_2880x1617-scaled.jpg
END:VEVENT
BEGIN:VEVENT
DTSTART;TZID=Europe/Athens:20260317T090000
DTEND;TZID=Europe/Athens:20260320T170000
DTSTAMP:20260420T213610
CREATED:20251022T151247Z
LAST-MODIFIED:20260316T100814Z
UID:10000113-1773738000-1774026000@hr-saniikos.com
SUMMARY:Management Essentials | IPP
DESCRIPTION: Agenda Day 1\n\nHR Essentials | 09:30-11:15\nL&D| 11:30-13:00\nInternal Communications (Intranet\, Viva\, MS Accounts) | 14:00-14:45\nSustainability Highlights | 15:00-15:45\n\nAgenda Day 2\n\nInduction for New Managers/ Train The Trainer | 09:15-11:30\nAmbassadors Program | 14:00-14:45\n\nAgenda Day 3\n\nGuest Journey Map/ Operating Standards | 09:30-10:15\n\nService Recovery Outcomes/ Guest Feedback & KPIs| 10:30-11:15\n\nFacilitation Methodology | 11:30-13:00\nGDPR & Compliance Training | 14:00-14:45\n\nAgenda Day 4\n\nPerformance Management Alignment | 09:30-12:15\n\nTalent Development Tools (R&A\, Feedback channels)| 13:00-13:45\n\nOPEX/CAPEX/Payroll (MIS)| 14:00-15:30\n\nSIG-Management-Essentials-Training-Program.xlsx
URL:https://hr-saniikos.com/training/management-essentials-ipp/
LOCATION:Ikos Porto Petro
CATEGORIES:Management Essentials
ATTACH;FMTTYPE=image/jpeg:https://hr-saniikos.com/wp-content/uploads/2025/10/Sani-Resort-_-Rafa-Nadal-Tennis-Center-_-Court_2880x1617-scaled.jpg
END:VEVENT
BEGIN:VEVENT
DTSTART;TZID=Europe/Athens:20260316T090000
DTEND;TZID=Europe/Athens:20260319T170000
DTSTAMP:20260420T213610
CREATED:20251022T151336Z
LAST-MODIFIED:20260217T144027Z
UID:10000114-1773651600-1773939600@hr-saniikos.com
SUMMARY:Management Essentials | IAR
DESCRIPTION: Agenda Day 1\n\nL&D (eLp\, D2D\, Induction\, Ops Training Calendar\, Leadership Essentials) | 09:30-11:15\nPerformance Management Alignment | 11:30-13:15\nTalent Development Tools (R&A\, Feedback channels) | 14:15-15:00\nAmbassador’s Program | 15:15-16:00\n\nAgenda Day 2\n\nHR Essentials | 09:30-11:15\nFacilitation Methodology | 11:30-13:45\nGDPR & Compliance Training | 14:00-14:45\nInternal Communications (Intranet\, Viva\, MS Accounts) | 15:00-15:45\n\nAgenda Day 3\n\nGuest Journey Map/ Operating Standards | 09:30-10:15\nService Recovery Outcomes/Guest Feedback & KPI | 10:30-11:15\nOPEX/CAPEX | 11:30-13:15\nSustainability Highlights | 15:00-16:00\n\nAgenda Day 4\n\nInduction for New Managers (Train The Trainer) | 09:30-13:00\n\nSIG Management Essentials Training Program
URL:https://hr-saniikos.com/training/management-essentials-iar/
LOCATION:Ikos Aria
CATEGORIES:Management Essentials
ATTACH;FMTTYPE=image/jpeg:https://hr-saniikos.com/wp-content/uploads/2025/10/Sani-Resort-_-Rafa-Nadal-Tennis-Center-_-Court_2880x1617-scaled.jpg
END:VEVENT
BEGIN:VEVENT
DTSTART;TZID=Europe/Athens:20260310T090000
DTEND;TZID=Europe/Athens:20260313T170000
DTSTAMP:20260420T213610
CREATED:20251022T151719Z
LAST-MODIFIED:20260217T142839Z
UID:10000117-1773133200-1773421200@hr-saniikos.com
SUMMARY:Management Essentials | SA\, SD
DESCRIPTION:SANI ASTERIAS\nAgenda Day 1\n\nL&D | 09:30-11:00\nHR Essentials | 11:30-13:00\nInternal Communications (Intranet\, Viva\, MS Accounts) | 14:00-14:45\nGDPR & Compliance Training | 15:00-15:45\n\nAgenda Day 2\n\nPerformance Management Alignment | 09:30-12:00\nTalent Development Tools (R&A\, Feedback channels) | 12:15-13:00\nFacilitation Methodology | 14:00-15:45\n\nAgenda Day 3\n\nTrain The Trainer (Facilitation Methodology) | 09:30-13:45\n\nAgenda Day 4\n\nGuest Feedback\, KPIs and Analytics (Digital Surveys/ReviewPro\, TripAdvisor) | 09:30-10:15\nBrand Standards & SOPs | 10:30-11:15\nOPEX/CAPEX | 11:30-13:15\nAmbassador’s Program | 14:15-15:00\nSustainability Highlights | 15:15-16:00\n\n\nSANI DUNES\nAgenda Day 1\n\nHR Essentials | 09:30-11:00\nL&D | 11:30-13:00\nInternal Communications (Intranet\, Viva\, MS Accounts) | 14:00-14:45\nAmbassador’s Program | 15:00-15:45\n\nAgenda Day 2\n\nSustainability Highlights | 09:30-10:15\nGDPR & Compliance Training | 10:30-11:15\nPerformance Management Alignment | 11:30-12:15\nTalent Development Tools (R&A\, Feedback channels) | 13:15-15:45\n\nAgenda Day 3\n\nTrain The Trainer (Facilitation Methodology) | 09:15-13:45\n\nAgenda Day 4\n\nGuest Feedback\, KPIs and Analytics (Digital Surveys/ReviewPro\, TripAdvisor) | 09:30-10:15\nBrand Standards & SOPs | 10:30-11:15\nOPEX/CAPEX | 11:30-13:15\nFacilitation Methodology | 14:15-16:00\n\nSIG Management Essentials Training Program
URL:https://hr-saniikos.com/training/management-essentials-sa-sd/
LOCATION:Sani Club
CATEGORIES:Management Essentials
ATTACH;FMTTYPE=image/jpeg:https://hr-saniikos.com/wp-content/uploads/2025/10/Sani-Resort-_-Rafa-Nadal-Tennis-Center-_-Court_2880x1617-scaled.jpg
END:VEVENT
BEGIN:VEVENT
DTSTART;TZID=Europe/Athens:20260302T090000
DTEND;TZID=Europe/Athens:20260306T170000
DTSTAMP:20260420T213610
CREATED:20251022T151611Z
LAST-MODIFIED:20260217T143915Z
UID:10000116-1772442000-1772816400@hr-saniikos.com
SUMMARY:Management Essentials | PS\, SB\, SC
DESCRIPTION:PORTO SANI\nAgenda Day 1\n\nHR Essentials | 09:30-11:00\nL&D (eLp\, D2D\, Induction\, Ops Training Calendar\, Leadership Essentials) | 11:30-13:00\nInternal Communications (Intranet\, Viva\, MS Accounts) | 14:00-14:45\nAmbassadors Program | 15:00-15:45\n\nAgenda Day 2\n\nSustainability Highlights | 09:30-10:15\nGDPR & Compliance Training | 10:30-11:15\nTalent Development Tools (R&A\, Feedback channels) | 11:30-12:15\nPerformance Management Alignment | 13:15-15:45\n\nAgenda Day 3\n\nInduction for New Managers (Train the Trainer) | 09:15-11:30\n\nAgenda Day 4\n\nGuest Feedback\, KPIs and Analytics (Digital Surveys/ReviewPro\, TripAdvisor) | 09:15-10:15\nBrand Standards & SOPs | 10:30-11:30\nOPEX/CAPEX | 14:45-15:45\nFacilitation Methodology | 11:45-12:45\n\n\nSANI BEACH\nAgenda Day 1\n\nPerformance Management Alignment | 09:30-12:00\nTalent Development Tools (R&A\, Feedback channels) | 12:15-13:00\nInternal Communications (Intranet\, Viva\, MS Accounts) | 14:00-14:45\nAmbassador’s Program | 15:00-15:45\n\nAgenda Day 2\n\nL&D (eLp\, D2D\, Induction\, Ops Training Calendar\, Leadership Essentials) | 09:30-11:15\nHR Essentials | 11:30-13:15\nSustainability Highlights | 14:15-15:00\nGDPR & Compliance Training | 15:15-16:00\n\nAgenda Day 3\n\nInduction for New Managers (Train the Trainer) | 09:00-13:45\n\nAgenda Day 4\n\nGuest Feedback\, KPIs and Analytics (Digital Surveys/ReviewPro\, TripAdvisor) | 09:30-10:15\nBrand Standards & SOPs | 10:30-11:15\nOPEX/CAPEX/Payroll (MIS) |11:30-13:15\nFacilitation Methodology| 14:15-16:00\n\n\nSANI CLUB\nAgenda Day 1\n\nL&D (eLp\, D2D\, Induction\, Ops Training Calendar\, Leadership Essentials) | 09:30-11:00\nHR Essentials | 11:30-13:00\nInternal Communications (Intranet\, Viva\, MS Accounts) | 14:00-14:45\nGDPR & Compliance Training | 15:00-15:45\n\nAgenda Day 2\n\nPerformance Management Alignment | 09:30-12:00\nTalent Development Tools (R&A\, Feedback channels) | 12:15-13:00\nFacilitation Methodology| 14:00-15:45\n\nAgenda Day 3\n\nInduction for New Managers (Train the Trainer) | 09:00-13:45\n\nAgenda Day 4\n\nGuest Feedback\, KPIs and Analytics (Digital Surveys/ReviewPro\, TripAdvisor) | 09:30-10:15\nBrand Standards & SOPs | 10:30-11:15\nOPEX/CAPEX/Payroll (MIS) |11:30-13:15\nAmbassador’s Program | 14:15-15:00\nSustainability Highlights | 15:15-16:00\n\nSIG Management Essentials Training Program
URL:https://hr-saniikos.com/training/management-essentials-ps-sb-sc/
LOCATION:Porto Sani
CATEGORIES:Management Essentials
ATTACH;FMTTYPE=image/jpeg:https://hr-saniikos.com/wp-content/uploads/2025/10/Sani-Resort-_-Rafa-Nadal-Tennis-Center-_-Court_2880x1617-scaled.jpg
END:VEVENT
BEGIN:VEVENT
DTSTART;TZID=Europe/Athens:20260224T090000
DTEND;TZID=Europe/Athens:20260227T170000
DTSTAMP:20260420T213610
CREATED:20260216T121107Z
LAST-MODIFIED:20260217T142342Z
UID:10000185-1771923600-1772211600@hr-saniikos.com
SUMMARY:Management Essentials | SM
DESCRIPTION:Agenda Day 1\n\nL&D (eLp\, D2D\, Induction\, Ops Training Calendar\, Leadership Essentials) | 09:30-11:00\nHR Essentials | 11:30-13:00\nWorkplace Violence & Harassment – Recognition\, Prevention and Response| 13:00-15:30\n\nAgenda Day 2\n\nPerformance Management Alignment | 09:30-12:00\nTalent Development Tools (R&A\, Feedback channels) | 12:25-13:00\nFacilitation Methodology | 14:00-15:45\n\nAgenda Day 3\n\nGuest Feedback\, KPIs and Analytics (Digital Surveys/ReviewPro\, TripAdvisor) | 09:30-10:15\nBrand Standards & SOPs | 10:30-11:15\nOPEX/CAPEX/Payroll (MIS) | 11:30-13:45\nAmbassadors Program | 14:15-15:00\nSustainability Highlights| 15:15-16:00\n\nAgenda Day 4\n\nGDPR & Compliance Training | 09:30-10:15\nInternal Communications (Intranet\, Viva\, MS Accounts) | 10:45-11:30\nTrain the Trainer/ Induction for new managers | 12:45-16:00\n\nSIG Management Essentials Training Program
URL:https://hr-saniikos.com/training/management-essentials-sm/
LOCATION:Sani Marina
CATEGORIES:Management Essentials
ATTACH;FMTTYPE=image/jpeg:https://hr-saniikos.com/wp-content/uploads/2025/10/Sani-Resort-_-Rafa-Nadal-Tennis-Center-_-Court_2880x1617-scaled.jpg
END:VEVENT
BEGIN:VEVENT
DTSTART;TZID=Europe/Athens:20260217T090000
DTEND;TZID=Europe/Athens:20260220T170000
DTSTAMP:20260420T213610
CREATED:20251022T151439Z
LAST-MODIFIED:20260217T143957Z
UID:10000115-1771318800-1771606800@hr-saniikos.com
SUMMARY:Management Essentials | IDA & IOD
DESCRIPTION:IDA\nAgenda Day 17/02\n\nPerformance Management Alignment | 09:30-12:15\n\nTalent Development Tools (R&A\, Feedback channels)| 13:00-13:45\n\nInternal Communications (Intranet\, Viva\, MS Accounts) | 14:00-14:45\n\nAgenda Day 18/02\n\nL&D (eLp\, D2D\, Induction\, Ops Training Calendar\, Leadership Essentials) | 09:30-11:15\nFacilitation Methodology | 11:30-13:00\nGDPR & Compliance Training | 14:00-14:45\nAmbassadors Program| 15:00-15:45\n\nAgenda Day 19/02\n\nHR Essentials | 09:30-11:15\nOPEX/CAPEX | 11:30-13:15\nSustainability Highlights | 14:00-14:45\n\nAgenda Day 20/02\n\nInduction for New Managers/Train the Trainer | 09:30-13:00\n\nAgenda Day 26/02\n\nGuest Feedback\, KPIs and Analytics (Digital Surveys/ReviewPro\, TripAdvisor) | 09:30-10:15\nBrand Standards & SOPs | 10:30-11:15\n\n\nIOD\nAgenda Day 17/02\n\nL&D (eLp\, D2D\, Induction\, Ops Training Calendar\, Leadership Essentials) |  09:30-11:15\nHR Essentials | 11:30-13:15\nInternal Communications (Intranet\, Viva\, MS Accounts) | 14:00-14:45\n\nAgenda Day 18/02\n\nPerformance Management Alignment | 09:30-12:15\n\nTalent Development Tools (R&A\, Feedback channels)| 13:00-13:45\n\nSustainability Highlights | 14:00-14:45\nAmbassador’s Program | 15:00-15:45\n\nAgenda Day 19/02\n\nFacilitation Methodology | 09:30-11:15\nOPEX/CAPEX | 11:30-13:15\nGDPR & Compliance Training | 14:00-14:45\n\nAgenda Day 20/02\n\nInduction for New Managers/Train the Trainer | 09:30-13:00\n\nAgenda Day 26/02\n\nGuest Feedback\, KPIs and Analytics (Digital Surveys/ReviewPro\, TripAdvisor) | 09:30-10:15\nBrand Standards & SOPs | 10:30-11:15\n\nSIG Management Essentials Training Program
URL:https://hr-saniikos.com/training/management-essentials-ida-iod/
LOCATION:Ikos Odisia
CATEGORIES:Management Essentials
ATTACH;FMTTYPE=image/jpeg:https://hr-saniikos.com/wp-content/uploads/2025/10/Sani-Resort-_-Rafa-Nadal-Tennis-Center-_-Court_2880x1617-scaled.jpg
END:VEVENT
BEGIN:VEVENT
DTSTART;TZID=Europe/Athens:20260210T090000
DTEND;TZID=Europe/Athens:20260213T170000
DTSTAMP:20260420T213610
CREATED:20251022T151201Z
LAST-MODIFIED:20260126T135638Z
UID:10000112-1770714000-1771002000@hr-saniikos.com
SUMMARY:Management Essentials | IAN
DESCRIPTION: Agenda Day 10/02\n\nPerformance Management Alignment | 09:30-12:15\nTalent Development Tools (R&A\, Feedback channels) | 13:00-13:45\nInternal Communications (Intranet\, Viva\, MS Accounts) | 14:00-14:45\n\nAgenda Day 11/02\n\nHR Essentials | 09:30-11:15\nFacilitation Methodology | 11:30-13:45\nGDPR & Compliance Training | 14:00-14:45\nAmbassadors Program | 15:00-15:45\n\nAgenda Day 12/02\n\nGuest Journey Map/ Operating Standards | 09:30-10:15\nService Recovery Outcomes/ Guest Feedback & KPIs | 10:30-11:15\nL&D (eLp\, D2D\, Induction\, Ops Training Calendar\, Leadership Essentials) | 11:30-13:45\nSustainability Highlights | 14:00-14:45\n\nAgenda Day 4\n\nInduction for New Managers/ Train the Trainer | 09:30-13:00\nOPEX/CAPEX/Payroll (MIS) | 13:45-15:30
URL:https://hr-saniikos.com/training/management-essentials-ian/
LOCATION:Ikos Andalusia
CATEGORIES:Management Essentials
ATTACH;FMTTYPE=image/jpeg:https://hr-saniikos.com/wp-content/uploads/2025/10/Sani-Resort-_-Rafa-Nadal-Tennis-Center-_-Court_2880x1617-scaled.jpg
END:VEVENT
BEGIN:VEVENT
DTSTART;TZID=Europe/Athens:20260203T090000
DTEND;TZID=Europe/Athens:20260206T170000
DTSTAMP:20260420T213610
CREATED:20251022T150842Z
LAST-MODIFIED:20260217T144056Z
UID:10000111-1770109200-1770397200@hr-saniikos.com
SUMMARY:Management Essentials | IOC & IOL
DESCRIPTION: IOC\nAgenda Day 1\n\nHR Essentials | 09:30-11:15\nL&D (eLp\, D2D\, Induction\, Ops Training Calendar\, Leadership Essentials) | 11:30-13:00\nInternal Communications (Intranet\, Viva\, MS Accounts) | 14:00-14:45\nSustainability Highlights | 15:00-15:45\n\nAgenda Day 2\n\nFacilitation Methodology | 09:30-11:15\nPerformance Management Alignment | 11:30-14:45\nTalent Development Tools (R&A\, Feedback channels) | 15:00-15:45\n\nAgenda Day 3\n\nGuest Journey Map/ Operating Standards | 09:30-10:15\nService Recovery Outcomes/ Guest Feedback & KPIs | 10:30-11:15\nOPEX/CAPEX/Payroll (MIS) | 11:30-13:15\nGDPR & Compliance Training | 14:00-14:45\nAmbassadors Program | 15:00-15:45\n\nAgenda Day 4\n\nInduction for New Managers/Train the Trainer | 09:30-13:00\n\n\nIOL\nAgenda Day 1\n\nPerformance Management Alignment | 09:30-12:15\nTalent Development Tools (R&A\, Feedback channels) | 13:00-13:45\nInternal Communications (Intranet\, Viva\, MS Accounts) | 14:00-14:45\nGDPR & Compliance Training | 15:00-15:45\n\nAgenda Day 2\n\nL&D (eLp\, D2D\, Induction\, Ops Training Calendar\, Leadership Essentials) | 09:30-11:15\nHR Essentials | 11:30-13:45\nFacilitation Methodology | 14:00-15:30\n\nAgenda Day 3\n\nGuest Journey Map/ Operating Standards | 09:30-10:15\nService Recovery Outcomes/ Guest Feedback & KPIs | 10:30-11:15\nOPEX/CAPEX/Payroll (MIS) | 11:30-13:15\nSustainability Highlights | 14:00-14:45\nAmbassadors Program | 15:00-15:45\n\nSIG Management Essentials Training Program
URL:https://hr-saniikos.com/training/management-essentials-ioc-iol/
LOCATION:Ikos Oceania
CATEGORIES:Management Essentials
ATTACH;FMTTYPE=image/jpeg:https://hr-saniikos.com/wp-content/uploads/2025/10/Sani-Resort-_-Rafa-Nadal-Tennis-Center-_-Court_2880x1617-scaled.jpg
END:VEVENT
BEGIN:VEVENT
DTSTART;TZID=Europe/Athens:20260126T090000
DTEND;TZID=Europe/Athens:20260202T170000
DTSTAMP:20260420T213610
CREATED:20251022T151808Z
LAST-MODIFIED:20260217T142753Z
UID:10000118-1769418000-1770051600@hr-saniikos.com
SUMMARY:Management Essentials | IKI
DESCRIPTION:Agenda 26/01\n\nL&D (eLp\, D2D\, Induction\, Ops Training Calendar\, Leadership Essentials) | 09:30-11:00\nInduction for New Managers/ Train The Trainer (Facilitation Methodology) | 11:15-15:00\n\nAgenda 29/01\n\nHR Essentials | 09:30-11:00\nPerformance Management Alignment | 11:45-14:15\nTalent Development Tools (R&A\, Feedback channels) | 14:30-15:15\n\nAgenda 30/01\n\nSustainability Highlights | 09:30-10:15\nOPEX/CAPEX/Payroll (MIS) | 10:30-12:15\nGDPR & Compliance Training | 13:00-13:45\nAmbassadors Program | 14:00-14:45\n\nAgenda 02/02\n\nGuest Journey Map/ Operating Standards | 09:30-10:15\nService Recovery Outcomes/ Guest Feedback & KPIs | 10:30-11:15\nFacilitation Methodology | 11:30-13:45\nInternal Communications (Intranet\, Viva\, MS Accounts) | 14:00-14:45\n\nSIG Management Essentials Training Program
URL:https://hr-saniikos.com/training/management-essentials-iki-2/
LOCATION:Ikos Kissamos
CATEGORIES:Management Essentials
ATTACH;FMTTYPE=image/jpeg:https://hr-saniikos.com/wp-content/uploads/2025/10/Sani-Resort-_-Rafa-Nadal-Tennis-Center-_-Court_2880x1617-scaled.jpg
END:VEVENT
END:VCALENDAR