BEGIN:VCALENDAR
VERSION:2.0
PRODID:-//Operations Training Calendar | SIG - ECPv6.15.11//NONSGML v1.0//EN
CALSCALE:GREGORIAN
METHOD:PUBLISH
X-WR-CALNAME:Operations Training Calendar | SIG
X-ORIGINAL-URL:https://hr-saniikos.com
X-WR-CALDESC:Events for Operations Training Calendar | SIG
REFRESH-INTERVAL;VALUE=DURATION:PT1H
X-Robots-Tag:noindex
X-PUBLISHED-TTL:PT1H
BEGIN:VTIMEZONE
TZID:Europe/Athens
BEGIN:DAYLIGHT
TZOFFSETFROM:+0200
TZOFFSETTO:+0300
TZNAME:EEST
DTSTART:20250330T010000
END:DAYLIGHT
BEGIN:STANDARD
TZOFFSETFROM:+0300
TZOFFSETTO:+0200
TZNAME:EET
DTSTART:20251026T010000
END:STANDARD
BEGIN:DAYLIGHT
TZOFFSETFROM:+0200
TZOFFSETTO:+0300
TZNAME:EEST
DTSTART:20260329T010000
END:DAYLIGHT
BEGIN:STANDARD
TZOFFSETFROM:+0300
TZOFFSETTO:+0200
TZNAME:EET
DTSTART:20261025T010000
END:STANDARD
BEGIN:DAYLIGHT
TZOFFSETFROM:+0200
TZOFFSETTO:+0300
TZNAME:EEST
DTSTART:20270328T010000
END:DAYLIGHT
BEGIN:STANDARD
TZOFFSETFROM:+0300
TZOFFSETTO:+0200
TZNAME:EET
DTSTART:20271031T010000
END:STANDARD
END:VTIMEZONE
BEGIN:VEVENT
DTSTART;TZID=Europe/Athens:20260417T000000
DTEND;TZID=Europe/Athens:20260417T000000
DTSTAMP:20260420T214519
CREATED:20260218T095625Z
LAST-MODIFIED:20260218T095625Z
UID:10000208-1776384000-1776384000@hr-saniikos.com
SUMMARY:AIMMS Training SA
DESCRIPTION:
URL:https://hr-saniikos.com/training/aimms-training-sa/
LOCATION:Sani Asterias
CATEGORIES:AIMMS Training
END:VEVENT
BEGIN:VEVENT
DTSTART;TZID=Europe/Athens:20260415T000000
DTEND;TZID=Europe/Athens:20260416T000000
DTSTAMP:20260420T214519
CREATED:20260218T095424Z
LAST-MODIFIED:20260218T095508Z
UID:10000206-1776211200-1776297600@hr-saniikos.com
SUMMARY:AIMMS Training IAR
DESCRIPTION:
URL:https://hr-saniikos.com/training/aimms-training-iar/
LOCATION:Ikos Aria
CATEGORIES:AIMMS Training
END:VEVENT
BEGIN:VEVENT
DTSTART;TZID=Europe/Athens:20260414T000000
DTEND;TZID=Europe/Athens:20260414T000000
DTSTAMP:20260420T214519
CREATED:20260218T095606Z
LAST-MODIFIED:20260218T095606Z
UID:10000207-1776124800-1776124800@hr-saniikos.com
SUMMARY:AIMMS Training SC
DESCRIPTION:
URL:https://hr-saniikos.com/training/aimms-training-sc/
LOCATION:Sani Club
CATEGORIES:AIMMS Training
END:VEVENT
BEGIN:VEVENT
DTSTART;TZID=Europe/Athens:20260408T000000
DTEND;TZID=Europe/Athens:20260408T000000
DTSTAMP:20260420T214519
CREATED:20260218T095134Z
LAST-MODIFIED:20260218T095226Z
UID:10000203-1775606400-1775606400@hr-saniikos.com
SUMMARY:AIMMS Training SD
DESCRIPTION:
URL:https://hr-saniikos.com/training/aimms-training-sd/
LOCATION:Sani Dunes
CATEGORIES:AIMMS Training
END:VEVENT
BEGIN:VEVENT
DTSTART;TZID=Europe/Athens:20260406T000000
DTEND;TZID=Europe/Athens:20260407T000000
DTSTAMP:20260420T214519
CREATED:20260218T095334Z
LAST-MODIFIED:20260218T095334Z
UID:10000205-1775433600-1775520000@hr-saniikos.com
SUMMARY:AIMMS Training IKI
DESCRIPTION:
URL:https://hr-saniikos.com/training/aimms-training-iki/
LOCATION:Ikos Kissamos
CATEGORIES:AIMMS Training
END:VEVENT
BEGIN:VEVENT
DTSTART;TZID=Europe/Athens:20260331T000000
DTEND;TZID=Europe/Athens:20260331T000000
DTSTAMP:20260420T214519
CREATED:20260218T095308Z
LAST-MODIFIED:20260218T095308Z
UID:10000204-1774915200-1774915200@hr-saniikos.com
SUMMARY:AIMMS Training IOD
DESCRIPTION:
URL:https://hr-saniikos.com/training/aimms-training-iod/
LOCATION:Ikos Odisia
CATEGORIES:AIMMS Training
END:VEVENT
BEGIN:VEVENT
DTSTART;TZID=Europe/Athens:20260330T000000
DTEND;TZID=Europe/Athens:20260330T000000
DTSTAMP:20260420T214519
CREATED:20260218T095036Z
LAST-MODIFIED:20260218T095036Z
UID:10000202-1774828800-1774828800@hr-saniikos.com
SUMMARY:AIMMS Training IDA
DESCRIPTION:
URL:https://hr-saniikos.com/training/aimms-training-ida/
LOCATION:Ikos Dassia
CATEGORIES:AIMMS Training
END:VEVENT
BEGIN:VEVENT
DTSTART;TZID=Europe/Athens:20260324T000000
DTEND;TZID=Europe/Athens:20260324T000000
DTSTAMP:20260420T214519
CREATED:20260218T094933Z
LAST-MODIFIED:20260218T094933Z
UID:10000200-1774310400-1774310400@hr-saniikos.com
SUMMARY:AIMMS Training SM
DESCRIPTION:
URL:https://hr-saniikos.com/training/aimms-training-sm/
LOCATION:Sani Marina
CATEGORIES:AIMMS Training
END:VEVENT
BEGIN:VEVENT
DTSTART;TZID=Europe/Athens:20260320T000000
DTEND;TZID=Europe/Athens:20260320T000000
DTSTAMP:20260420T214519
CREATED:20260218T094735Z
LAST-MODIFIED:20260218T094735Z
UID:10000197-1773964800-1773964800@hr-saniikos.com
SUMMARY:AIMMS Training IOC
DESCRIPTION:
URL:https://hr-saniikos.com/training/aimms-training-ioc/
LOCATION:Ikos Oceania
CATEGORIES:AIMMS Training
END:VEVENT
BEGIN:VEVENT
DTSTART;TZID=Europe/Athens:20260318T000000
DTEND;TZID=Europe/Athens:20260318T000000
DTSTAMP:20260420T214519
CREATED:20260218T094714Z
LAST-MODIFIED:20260218T094714Z
UID:10000196-1773792000-1773792000@hr-saniikos.com
SUMMARY:AIMMS Training IAN
DESCRIPTION:
URL:https://hr-saniikos.com/training/aimms-training-ian/
LOCATION:Ikos Andalusia
CATEGORIES:AIMMS Training
END:VEVENT
BEGIN:VEVENT
DTSTART;TZID=Europe/Athens:20260316T000000
DTEND;TZID=Europe/Athens:20260316T000000
DTSTAMP:20260420T214519
CREATED:20260218T094555Z
LAST-MODIFIED:20260218T094555Z
UID:10000195-1773619200-1773619200@hr-saniikos.com
SUMMARY:AIMMS Training IPP
DESCRIPTION:
URL:https://hr-saniikos.com/training/aimms-training-ipp/
LOCATION:Ikos Porto Petro
CATEGORIES:AIMMS Training
END:VEVENT
BEGIN:VEVENT
DTSTART;TZID=Europe/Athens:20260311T000000
DTEND;TZID=Europe/Athens:20260311T000000
DTSTAMP:20260420T214519
CREATED:20260218T095000Z
LAST-MODIFIED:20260218T095000Z
UID:10000201-1773187200-1773187200@hr-saniikos.com
SUMMARY:AIMMS Training PS
DESCRIPTION:
URL:https://hr-saniikos.com/training/aimms-training-ps/
LOCATION:Porto Sani
CATEGORIES:AIMMS Training
END:VEVENT
BEGIN:VEVENT
DTSTART;TZID=Europe/Athens:20260310T093000
DTEND;TZID=Europe/Athens:20260310T160000
DTSTAMP:20260420T214519
CREATED:20260218T094800Z
LAST-MODIFIED:20260318T135603Z
UID:10000198-1773135000-1773158400@hr-saniikos.com
SUMMARY:AIMMS Training IOL
DESCRIPTION:About this Session \nThis on‑site AIMMS Platform training\, delivered by our external partner Atlantis Engineering\, introduces participants to the core functionalities of the system and its role in daily maintenance operations. The session includes recent platform updates and practical guidance on using both the mobile and desktop applications. \n🎯 Learning Objectives \nParticipants will learn to: \n\nUnderstand AIMMS and its core functionalities\nUse the mobile and desktop applications confidently\n\n🎓 Target Audience \nMaintenance teams and all staff members who use the AIMMS platform \n🗓️ Additional Information \nA detailed schedule for each department will be provided below: \n\n\n\n\nRooms Division\, Entertainment\, Kids Club\, Sports\, Spa | 09:30–10:30\nF&B\, Warehouse\, IT\, Security \, Gardens | 11:00–12:00\nKitchens  | 12:15–13:00\nMaintenance| 13:15–16:00
URL:https://hr-saniikos.com/training/aimms-training-iol/
LOCATION:Ikos Olivia
CATEGORIES:AIMMS Training
END:VEVENT
BEGIN:VEVENT
DTSTART;TZID=Europe/Athens:20260309T093000
DTEND;TZID=Europe/Athens:20260309T160000
DTSTAMP:20260420T214519
CREATED:20260218T094912Z
LAST-MODIFIED:20260318T134537Z
UID:10000199-1773048600-1773072000@hr-saniikos.com
SUMMARY:AIMMS Training SB
DESCRIPTION:About this Session \nThis on‑site AIMMS Platform training\, delivered by our external partner Atlantis Engineering\, introduces participants to the core functionalities of the system and its role in daily maintenance operations. The session includes recent platform updates and practical guidance on using both the mobile and desktop applications. \n🎯 Learning Objectives \nParticipants will learn to: \n\nUnderstand AIMMS and its core functionalities\nUse the mobile and desktop applications confidently\n\n🎓 Target Audience \nMaintenance teams and all staff members who use the AIMMS platform \n🗓️ Additional Information \nA detailed schedule for each department will be provided below: \n\n\n\n\nRooms Division\, Entertainment\, Kids Club\, Sports\, Spa | 09:30–10:30\nF&B\, Warehouse\, IT\, Security \, Gardens | 11:00–12:00\nKitchens  | 12:15–13:00\nMaintenance| 13:00–16:00
URL:https://hr-saniikos.com/training/aimms-training-sb/
LOCATION:Sani Beach
CATEGORIES:AIMMS Training
END:VEVENT
END:VCALENDAR