BEGIN:VCALENDAR
VERSION:2.0
PRODID:-//Operations Training Calendar | SIG - ECPv6.15.11//NONSGML v1.0//EN
CALSCALE:GREGORIAN
METHOD:PUBLISH
X-WR-CALNAME:Operations Training Calendar | SIG
X-ORIGINAL-URL:https://hr-saniikos.com
X-WR-CALDESC:Events for Operations Training Calendar | SIG
REFRESH-INTERVAL;VALUE=DURATION:PT1H
X-Robots-Tag:noindex
X-PUBLISHED-TTL:PT1H
BEGIN:VTIMEZONE
TZID:Europe/Athens
BEGIN:DAYLIGHT
TZOFFSETFROM:+0200
TZOFFSETTO:+0300
TZNAME:EEST
DTSTART:20250330T010000
END:DAYLIGHT
BEGIN:STANDARD
TZOFFSETFROM:+0300
TZOFFSETTO:+0200
TZNAME:EET
DTSTART:20251026T010000
END:STANDARD
BEGIN:DAYLIGHT
TZOFFSETFROM:+0200
TZOFFSETTO:+0300
TZNAME:EEST
DTSTART:20260329T010000
END:DAYLIGHT
BEGIN:STANDARD
TZOFFSETFROM:+0300
TZOFFSETTO:+0200
TZNAME:EET
DTSTART:20261025T010000
END:STANDARD
BEGIN:DAYLIGHT
TZOFFSETFROM:+0200
TZOFFSETTO:+0300
TZNAME:EEST
DTSTART:20270328T010000
END:DAYLIGHT
BEGIN:STANDARD
TZOFFSETFROM:+0300
TZOFFSETTO:+0200
TZNAME:EET
DTSTART:20271031T010000
END:STANDARD
END:VTIMEZONE
BEGIN:VEVENT
DTSTART;TZID=Europe/Athens:20260422T090000
DTEND;TZID=Europe/Athens:20260422T170000
DTSTAMP:20260422T131245
CREATED:20260317T111538Z
LAST-MODIFIED:20260317T111538Z
UID:10000292-1776848400-1776877200@hr-saniikos.com
SUMMARY:Induction Training Day 2 | IOD Wave 3
DESCRIPTION:The 2-day “Welcome Onboard” Induction learning journey\, designed specifically for all new employees\, includes comprehensive content across the following key modules: \n\nBelief\, Mission\, Vision\, Values (BMVV)\nOur Service and Our Guests\nThe Decalogue of Excellence\nI know my Resort & I am Synced\nSafety & Security\nSustainability\n\nThe Induction training program reflects our ongoing investment in our teams and demonstrates the genuine care we place in building strong\, successful partnerships from the very beginning.
URL:https://hr-saniikos.com/training/induction-training-day-2-iod-wave-3/
LOCATION:Ikos Odisia
CATEGORIES:Induction Training
ATTACH;FMTTYPE=image/jpeg:https://hr-saniikos.com/wp-content/uploads/2025/11/Sani-Beach-_-Bousoulas-Beach-Party4066_2880x1830-1-scaled.jpg
END:VEVENT
BEGIN:VEVENT
DTSTART;TZID=Europe/Athens:20260422T093000
DTEND;TZID=Europe/Athens:20260422T163000
DTSTAMP:20260422T131245
CREATED:20260316T150356Z
LAST-MODIFIED:20260316T150356Z
UID:10000283-1776850200-1776875400@hr-saniikos.com
SUMMARY:Induction Training Essentials & Elevation | IOD Wave 3
DESCRIPTION:The 1-day “Essentials & Elevation” Induction learning journey is designed for team members who completed the 2-day Induction in the previous year. This refresher course builds on their existing knowledge and offers focused content across the following key modules: \n\nWelcome back Onboard (SIG history\, milestones & Governance)\nService Excellence & Emotional Intelligence\nBMVV | Living our Values\nThe Decalogue of Excellence\nFostering a Feedback Culture\nAll time Classics & What’s New\n\nThe Essentials & Elevation program reflects our ongoing investment in our teams and demonstrates the genuine care we place in building strong\, successful partnerships from the very beginning.
URL:https://hr-saniikos.com/training/induction-training-essentials-elevation-iod-wave-3/
LOCATION:Ikos Odisia
CATEGORIES:Induction Training
ATTACH;FMTTYPE=image/jpeg:https://hr-saniikos.com/wp-content/uploads/2026/03/Sani-Beach-_-Bousoulas-Beach-Party4066_2880x1830-scaled.jpg
END:VEVENT
END:VCALENDAR