BEGIN:VCALENDAR
VERSION:2.0
PRODID:-//Operations Training Calendar | SIG - ECPv6.15.11//NONSGML v1.0//EN
CALSCALE:GREGORIAN
METHOD:PUBLISH
X-WR-CALNAME:Operations Training Calendar | SIG
X-ORIGINAL-URL:https://hr-saniikos.com
X-WR-CALDESC:Events for Operations Training Calendar | SIG
REFRESH-INTERVAL;VALUE=DURATION:PT1H
X-Robots-Tag:noindex
X-PUBLISHED-TTL:PT1H
BEGIN:VTIMEZONE
TZID:Europe/Athens
BEGIN:DAYLIGHT
TZOFFSETFROM:+0200
TZOFFSETTO:+0300
TZNAME:EEST
DTSTART:20250330T010000
END:DAYLIGHT
BEGIN:STANDARD
TZOFFSETFROM:+0300
TZOFFSETTO:+0200
TZNAME:EET
DTSTART:20251026T010000
END:STANDARD
BEGIN:DAYLIGHT
TZOFFSETFROM:+0200
TZOFFSETTO:+0300
TZNAME:EEST
DTSTART:20260329T010000
END:DAYLIGHT
BEGIN:STANDARD
TZOFFSETFROM:+0300
TZOFFSETTO:+0200
TZNAME:EET
DTSTART:20261025T010000
END:STANDARD
BEGIN:DAYLIGHT
TZOFFSETFROM:+0200
TZOFFSETTO:+0300
TZNAME:EEST
DTSTART:20270328T010000
END:DAYLIGHT
BEGIN:STANDARD
TZOFFSETFROM:+0300
TZOFFSETTO:+0200
TZNAME:EET
DTSTART:20271031T010000
END:STANDARD
END:VTIMEZONE
BEGIN:VEVENT
DTSTART;TZID=Europe/Athens:20260320T130000
DTEND;TZID=Europe/Athens:20260320T140000
DTSTAMP:20260420T232338
CREATED:20251014T065456Z
LAST-MODIFIED:20251014T065456Z
UID:10000069-1774011600-1774015200@hr-saniikos.com
SUMMARY:Sports & Recreation | D2D IKI
DESCRIPTION:About this Session\nGuests at Ikos Resorts can savor a challenging game of tennis\, explore the countryside by bike\, or simply work out in the gym. During this D2D session\, we will unveil a broad spectrum of wellness\, fitness\, and sports activities for our guests to discover and relish throughout their holiday. \n🎯 Learning Objectives\nBy the end of the session\, the participants will be able to: \n\nUnderstand the wellness concept of Ikos Resorts\nKnow the different sports facilities and their operating hours\nKnow the vast array of wellness & fitness activities and their operating hours\nKnow the pricing of services (e.g.: personal training)\nBe aware of the S&R Policies\nFamiliarize themselves with the booking system\n\n🎓 Target Audience\nAll seasonal employees of Operations
URL:https://hr-saniikos.com/training/sports-recreation-d2d-iki/
LOCATION:Ikos Kissamos
CATEGORIES:D2D Sessions
ATTACH;FMTTYPE=image/jpeg:https://hr-saniikos.com/wp-content/uploads/2025/10/Kids-Activities-Tennis-Class-2_2880x1921-scaled.jpg
END:VEVENT
BEGIN:VEVENT
DTSTART;TZID=Europe/Athens:20260311T130000
DTEND;TZID=Europe/Athens:20260311T140000
DTSTAMP:20260420T232338
CREATED:20251014T063627Z
LAST-MODIFIED:20260224T074007Z
UID:10000066-1773234000-1773237600@hr-saniikos.com
SUMMARY:Sports & Recreation | D2D IOD
DESCRIPTION:About this Session\nGuests at Ikos Resorts can savor a challenging game of tennis\, explore the countryside by bike\, or simply work out in the gym. During this D2D session\, we will unveil a broad spectrum of wellness\, fitness\, and sports activities for our guests to discover and relish throughout their holiday. \n🎯 Learning Objectives\nBy the end of the session\, the participants will be able to: \n\nUnderstand the wellness concept of Ikos Resorts\nKnow the different sports facilities and their operating hours\nKnow the vast array of wellness & fitness activities and their operating hours\nKnow the pricing of services (e.g.: personal training)\nBe aware of the S&R Policies\nFamiliarize themselves with the booking system\n\n🎓 Target Audience\nAll seasonal employees of Operations
URL:https://hr-saniikos.com/training/sports-recreation-d2d-iod/
LOCATION:Ikos Odisia
CATEGORIES:D2D Sessions
ATTACH;FMTTYPE=image/jpeg:https://hr-saniikos.com/wp-content/uploads/2025/10/Kids-Activities-Tennis-Class-2_2880x1921-scaled.jpg
END:VEVENT
BEGIN:VEVENT
DTSTART;TZID=Europe/Athens:20260310T130000
DTEND;TZID=Europe/Athens:20260310T140000
DTSTAMP:20260420T232338
CREATED:20251014T064054Z
LAST-MODIFIED:20260224T073931Z
UID:10000067-1773147600-1773151200@hr-saniikos.com
SUMMARY:Sports & Recreation | D2D IAR
DESCRIPTION:About this Session\nGuests at Ikos Resorts can savor a challenging game of tennis\, explore the countryside by bike\, or simply work out in the gym. During this D2D session\, we will unveil a broad spectrum of wellness\, fitness\, and sports activities for our guests to discover and relish throughout their holiday. \n🎯 Learning Objectives\nBy the end of the session\, the participants will be able to: \n\nUnderstand the wellness concept of Ikos Resorts\nKnow the different sports facilities and their operating hours\nKnow the vast array of wellness & fitness activities and their operating hours\nKnow the pricing of services (e.g.: personal training)\nBe aware of the S&R Policies\nFamiliarize themselves with the booking system\n\n🎓 Target Audience\nAll seasonal employees of Operations
URL:https://hr-saniikos.com/training/sports-recreation-d2d-iar/
LOCATION:Ikos Aria
CATEGORIES:D2D Sessions
ATTACH;FMTTYPE=image/jpeg:https://hr-saniikos.com/wp-content/uploads/2025/10/Kids-Activities-Tennis-Class-2_2880x1921-scaled.jpg
END:VEVENT
BEGIN:VEVENT
DTSTART;TZID=Europe/Athens:20260305T130000
DTEND;TZID=Europe/Athens:20260305T140000
DTSTAMP:20260420T232338
CREATED:20251014T063159Z
LAST-MODIFIED:20251014T063825Z
UID:10000065-1772715600-1772719200@hr-saniikos.com
SUMMARY:Sports & Recreation | D2D IOL
DESCRIPTION:About this Session\nGuests at Ikos Resorts can savor a challenging game of tennis\, explore the countryside by bike\, or simply work out in the gym. During this D2D session\, we will unveil a broad spectrum of wellness\, fitness\, and sports activities for our guests to discover and relish throughout their holiday. \n🎯 Learning Objectives\nBy the end of the session\, the participants will be able to: \n\nUnderstand the wellness concept of Ikos Resorts\nKnow the different sports facilities and their operating hours\nKnow the vast array of wellness & fitness activities and their operating hours\nKnow the pricing of services (e.g.: personal training)\nBe aware of the S&R Policies\nFamiliarize themselves with the booking system\n\n🎓 Target Audience\nAll seasonal employees of Operations
URL:https://hr-saniikos.com/training/sports-recreation-d2d-iol/
LOCATION:Ikos Olivia
CATEGORIES:D2D Sessions
ATTACH;FMTTYPE=image/jpeg:https://hr-saniikos.com/wp-content/uploads/2025/10/Kids-Activities-Tennis-Class-2_2880x1921-scaled.jpg
END:VEVENT
BEGIN:VEVENT
DTSTART;TZID=Europe/Athens:20260305T110000
DTEND;TZID=Europe/Athens:20260305T120000
DTSTAMP:20260420T232338
CREATED:20251014T061811Z
LAST-MODIFIED:20251014T062647Z
UID:10000063-1772708400-1772712000@hr-saniikos.com
SUMMARY:Sports & Recreation | D2D IDA
DESCRIPTION:About this Session\nGuests at Ikos Resort can savor outdoor activities\, explore the countryside by bike\, or simply choose from a vast array of branded sports Academies. During this D2D session\, we will unveil a broad spectrum of wellness\, fitness\, and sports activities for our guests to discover and relish throughout their holiday. \n🎯 Learning Objectives\nBy the end of the session\, the participants will be able to: \n\nUnderstand the wellness concept of Ikos Resort\nKnow the different sports facilities & Academies and their operating hours\nKnow the vast array of wellness & fitness activities and their operating hours\nKnow what’s new this year in the Ikos\nBe aware of the S&R Policies\nFamiliarize themselves with the booking system\n\n🎓 Target Audience\nAll guest-facing seasonal employees of Operations
URL:https://hr-saniikos.com/training/sports-recreation-d2d-ida/
LOCATION:Ikos Dassia
CATEGORIES:D2D Sessions
ATTACH;FMTTYPE=image/jpeg:https://hr-saniikos.com/wp-content/uploads/2025/10/Kids-Activities-Tennis-Class-2_2880x1921-scaled.jpg
END:VEVENT
BEGIN:VEVENT
DTSTART;TZID=Europe/Athens:20260303T130000
DTEND;TZID=Europe/Athens:20260303T140000
DTSTAMP:20260420T232338
CREATED:20251014T062516Z
LAST-MODIFIED:20251014T063744Z
UID:10000064-1772542800-1772546400@hr-saniikos.com
SUMMARY:Sports & Recreation | D2D IOC
DESCRIPTION:About this Session\nGuests at Ikos Resorts can savor a challenging game of tennis\, explore the countryside by bike\, or simply work out in the gym. During this D2D session\, we will unveil a broad spectrum of wellness\, fitness\, and sports activities for our guests to discover and relish throughout their holiday. \n🎯 Learning Objectives\nBy the end of the session\, the participants will be able to: \n\nUnderstand the wellness concept of Ikos Resorts\nKnow the different sports facilities and their operating hours\nKnow the vast array of wellness & fitness activities and their operating hours\nKnow the pricing of services (e.g.: personal training)\nBe aware of the S&R Policies\nFamiliarize themselves with the booking system\n\n🎓 Target Audience\nAll seasonal employees of Operations
URL:https://hr-saniikos.com/training/sports-recreation-d2d-ioc/
LOCATION:Ikos Oceania
CATEGORIES:D2D Sessions
ATTACH;FMTTYPE=image/jpeg:https://hr-saniikos.com/wp-content/uploads/2025/10/Kids-Activities-Tennis-Class-2_2880x1921-scaled.jpg
END:VEVENT
END:VCALENDAR