BEGIN:VCALENDAR
VERSION:2.0
PRODID:-//Operations Training Calendar | SIG - ECPv6.15.11//NONSGML v1.0//EN
CALSCALE:GREGORIAN
METHOD:PUBLISH
X-ORIGINAL-URL:https://hr-saniikos.com
X-WR-CALDESC:Events for Operations Training Calendar | SIG
REFRESH-INTERVAL;VALUE=DURATION:PT1H
X-Robots-Tag:noindex
X-PUBLISHED-TTL:PT1H
BEGIN:VTIMEZONE
TZID:Europe/Athens
BEGIN:DAYLIGHT
TZOFFSETFROM:+0200
TZOFFSETTO:+0300
TZNAME:EEST
DTSTART:20250330T010000
END:DAYLIGHT
BEGIN:STANDARD
TZOFFSETFROM:+0300
TZOFFSETTO:+0200
TZNAME:EET
DTSTART:20251026T010000
END:STANDARD
BEGIN:DAYLIGHT
TZOFFSETFROM:+0200
TZOFFSETTO:+0300
TZNAME:EEST
DTSTART:20260329T010000
END:DAYLIGHT
BEGIN:STANDARD
TZOFFSETFROM:+0300
TZOFFSETTO:+0200
TZNAME:EET
DTSTART:20261025T010000
END:STANDARD
BEGIN:DAYLIGHT
TZOFFSETFROM:+0200
TZOFFSETTO:+0300
TZNAME:EEST
DTSTART:20270328T010000
END:DAYLIGHT
BEGIN:STANDARD
TZOFFSETFROM:+0300
TZOFFSETTO:+0200
TZNAME:EET
DTSTART:20271031T010000
END:STANDARD
END:VTIMEZONE
BEGIN:VEVENT
DTSTART;TZID=Europe/Athens:20260319T090000
DTEND;TZID=Europe/Athens:20260319T150000
DTSTAMP:20260420T231655
CREATED:20251022T152626Z
LAST-MODIFIED:20260204T075411Z
UID:10000123-1773910800-1773932400@hr-saniikos.com
SUMMARY:Induction TTT | *New Trainers IAR
DESCRIPTION:About this Session\nThis highly interactive session is designed to prepare and coach selected team members to effectively deliver the organizational Induction Training Program to the operational teams of their Resort. \nParticipants will learn how to create engaging and memorable learning experiences that meet the highest standards and lead to tangible\, long-lasting business results. \n🎯 Learning Objectives\nBy the end of the workshop\, participants will be able to: \n\nUnderstand and embrace the role of an effective Induction Trainer\nUse available training media and facilitator guides efficiently\nManage training groups and handle challenging participants with confidence\nApply advanced presentation and training delivery skills\nDemonstrate effective body language during training sessions\nUse verbal and non-verbal communication techniques to enhance engagement\n\n🎓 Target Audience\nNew Operational team members selected by their respective Hotel Management to serve as Induction Trainers.
URL:https://hr-saniikos.com/training/induction-ttt-new-trainers-iar/
LOCATION:Ikos Aria
CATEGORIES:Train the Trainer
ATTACH;FMTTYPE=image/jpeg:https://hr-saniikos.com/wp-content/uploads/2025/10/SANI-_-SANCTUARY-_-BEACH-SEASHELL_1575x1050-2.jpg
END:VEVENT
BEGIN:VEVENT
DTSTART;TZID=Europe/Athens:20260318T090000
DTEND;TZID=Europe/Athens:20260318T150000
DTSTAMP:20260420T231655
CREATED:20251022T152421Z
LAST-MODIFIED:20260204T075033Z
UID:10000121-1773824400-1773846000@hr-saniikos.com
SUMMARY:Induction TTT | *New Trainers IPP
DESCRIPTION:About this Session\nThis highly interactive session is designed to prepare and coach selected team members to effectively deliver the organizational Induction Training Program to the operational teams of their Resort. \nParticipants will learn how to create engaging and memorable learning experiences that meet the highest standards and lead to tangible\, long-lasting business results. \n🎯 Learning Objectives\nBy the end of the workshop\, participants will be able to: \n\nUnderstand and embrace the role of an effective Induction Trainer\nUse available training media and facilitator guides efficiently\nManage training groups and handle challenging participants with confidence\nApply advanced presentation and training delivery skills\nDemonstrate effective body language during training sessions\nUse verbal and non-verbal communication techniques to enhance engagement\n\n🎓 Target Audience\nNew Operational team members selected by their respective Hotel Management to serve as Induction Trainers.
URL:https://hr-saniikos.com/training/induction-ttt-new-trainers-ipp/
LOCATION:Ikos Porto Petro
CATEGORIES:Train the Trainer
ATTACH;FMTTYPE=image/jpeg:https://hr-saniikos.com/wp-content/uploads/2025/10/SANI-_-SANCTUARY-_-BEACH-SEASHELL_1575x1050-2.jpg
END:VEVENT
BEGIN:VEVENT
DTSTART;TZID=Europe/Athens:20260312T090000
DTEND;TZID=Europe/Athens:20260312T150000
DTSTAMP:20260420T231655
CREATED:20251022T152731Z
LAST-MODIFIED:20260310T100234Z
UID:10000124-1773306000-1773327600@hr-saniikos.com
SUMMARY:Induction TTT | *New Trainers SR
DESCRIPTION:About this Session\nThis highly interactive session is designed to prepare and coach selected team members to effectively deliver the organizational Induction Training Program to the operational teams of their Resort. \nParticipants will learn how to create engaging and memorable learning experiences that meet the highest standards and lead to tangible\, long-lasting business results. \n🎯 Learning Objectives\nBy the end of the workshop\, participants will be able to: \n\nUnderstand and embrace the role of an effective Induction Trainer\nUse available training media and facilitator guides efficiently\nManage training groups and handle challenging participants with confidence\nApply advanced presentation and training delivery skills\nDemonstrate effective body language during training sessions\nUse verbal and non-verbal communication techniques to enhance engagement\n\n🎓 Target Audience\nNew Operational team members selected by their respective Hotel Management to serve as Induction Trainers.
URL:https://hr-saniikos.com/training/induction-ttt-new-trainers-sr/
LOCATION:Sani Beach
CATEGORIES:Train the Trainer
ATTACH;FMTTYPE=image/jpeg:https://hr-saniikos.com/wp-content/uploads/2025/10/SANI-_-SANCTUARY-_-BEACH-SEASHELL_1575x1050-2.jpg
END:VEVENT
BEGIN:VEVENT
DTSTART;TZID=Europe/Athens:20260219T090000
DTEND;TZID=Europe/Athens:20260219T150000
DTSTAMP:20260420T231655
CREATED:20251022T152513Z
LAST-MODIFIED:20260204T074955Z
UID:10000122-1771491600-1771513200@hr-saniikos.com
SUMMARY:Induction TTT | *New Trainers IOD & IDA
DESCRIPTION:About this Session\nThis highly interactive session is designed to prepare and coach selected team members to effectively deliver the organizational Induction Training Program to the operational teams of their Resort. \nParticipants will learn how to create engaging and memorable learning experiences that meet the highest standards and lead to tangible\, long-lasting business results. \n🎯 Learning Objectives\nBy the end of the workshop\, participants will be able to: \n\nUnderstand and embrace the role of an effective Induction Trainer\nUse available training media and facilitator guides efficiently\nManage training groups and handle challenging participants with confidence\nApply advanced presentation and training delivery skills\nDemonstrate effective body language during training sessions\nUse verbal and non-verbal communication techniques to enhance engagement\n\n🎓 Target Audience\nNew Operational team members selected by their respective Hotel Management to serve as Induction Trainers.
URL:https://hr-saniikos.com/training/induction-ttt-new-trainers-iod-ida/
LOCATION:Ikos Dassia
CATEGORIES:Train the Trainer
ATTACH;FMTTYPE=image/jpeg:https://hr-saniikos.com/wp-content/uploads/2025/10/SANI-_-SANCTUARY-_-BEACH-SEASHELL_1575x1050-2.jpg
END:VEVENT
BEGIN:VEVENT
DTSTART;TZID=Europe/Athens:20260213T090000
DTEND;TZID=Europe/Athens:20260213T150000
DTSTAMP:20260420T231655
CREATED:20251022T152338Z
LAST-MODIFIED:20260204T074737Z
UID:10000120-1770973200-1770994800@hr-saniikos.com
SUMMARY:Induction TTT | *New Trainers IAN
DESCRIPTION:About this Session\nThis highly interactive session is designed to prepare and coach selected team members to effectively deliver the organizational Induction Training Program to the operational teams of their Resort. \nParticipants will learn how to create engaging and memorable learning experiences that meet the highest standards and lead to tangible\, long-lasting business results. \n🎯 Learning Objectives\nBy the end of the workshop\, participants will be able to: \n\nUnderstand and embrace the role of an effective Induction Trainer\nUse available training media and facilitator guides efficiently\nManage training groups and handle challenging participants with confidence\nApply advanced presentation and training delivery skills\nDemonstrate effective body language during training sessions\nUse verbal and non-verbal communication techniques to enhance engagement\n\n🎓 Target Audience\nNew Operational team members selected by their respective Hotel Management to serve as Induction Trainers.
URL:https://hr-saniikos.com/training/induction-ttt-new-trainers-ian/
LOCATION:Ikos Andalusia
CATEGORIES:Train the Trainer
ATTACH;FMTTYPE=image/jpeg:https://hr-saniikos.com/wp-content/uploads/2025/10/SANI-_-SANCTUARY-_-BEACH-SEASHELL_1575x1050-2.jpg
END:VEVENT
BEGIN:VEVENT
DTSTART;TZID=Europe/Athens:20260206T090000
DTEND;TZID=Europe/Athens:20260206T150000
DTSTAMP:20260420T231655
CREATED:20251022T152251Z
LAST-MODIFIED:20260204T074647Z
UID:10000119-1770368400-1770390000@hr-saniikos.com
SUMMARY:Induction TTT | *New Trainers IOC & IOL
DESCRIPTION:About this Session\nThis highly interactive session is designed to prepare and coach selected team members to effectively deliver the organizational Induction Training Program to the operational teams of their Resort. \nParticipants will learn how to create engaging and memorable learning experiences that meet the highest standards and lead to tangible\, long-lasting business results. \n🎯 Learning Objectives\nBy the end of the workshop\, participants will be able to: \n\nUnderstand and embrace the role of an effective Induction Trainer\nUse available training media and facilitator guides efficiently\nManage training groups and handle challenging participants with confidence\nApply advanced presentation and training delivery skills\nDemonstrate effective body language during training sessions\nUse verbal and non-verbal communication techniques to enhance engagement\n\n🎓 Target Audience\nNew Operational team members selected by their respective Hotel Management to serve as Induction Trainers.
URL:https://hr-saniikos.com/training/induction-ttt-new-trainers-ioc-iol/
LOCATION:Ikos Oceania
CATEGORIES:Train the Trainer
ATTACH;FMTTYPE=image/jpeg:https://hr-saniikos.com/wp-content/uploads/2025/10/SANI-_-SANCTUARY-_-BEACH-SEASHELL_1575x1050-2.jpg
END:VEVENT
BEGIN:VEVENT
DTSTART;TZID=Europe/Athens:20260126T110000
DTEND;TZID=Europe/Athens:20260126T150000
DTSTAMP:20260420T231655
CREATED:20251022T125808Z
LAST-MODIFIED:20260115T142444Z
UID:10000110-1769425200-1769439600@hr-saniikos.com
SUMMARY:Induction TTT | *New Trainers IKI
DESCRIPTION:About this Session\nThis highly interactive session is designed to prepare and coach selected team members to effectively deliver the organizational Induction Training Program to the operational teams of their Resort. \nParticipants will learn how to create engaging and memorable learning experiences that meet the highest standards and lead to tangible\, long-lasting business results. \n🎯 Learning Objectives\nBy the end of the workshop\, participants will be able to: \n\nUnderstand and embrace the role of an effective Induction Trainer\nUse available training media and facilitator guides efficiently\nManage training groups and handle challenging participants with confidence\nApply advanced presentation and training delivery skills\nDemonstrate effective body language during training sessions\nUse verbal and non-verbal communication techniques to enhance engagement\n\n🎓 Target Audience\nNew Operational team members selected by their respective Hotel Management to serve as Induction Trainers.
URL:https://hr-saniikos.com/training/induction-ttt-new-trainers-iki/
LOCATION:Ikos Kissamos
CATEGORIES:Train the Trainer
ATTACH;FMTTYPE=image/jpeg:https://hr-saniikos.com/wp-content/uploads/2025/10/SANI-_-SANCTUARY-_-BEACH-SEASHELL_1575x1050-2.jpg
END:VEVENT
END:VCALENDAR