BEGIN:VCALENDAR
VERSION:2.0
PRODID:-//Operations Training Calendar | SIG - ECPv6.15.11//NONSGML v1.0//EN
CALSCALE:GREGORIAN
METHOD:PUBLISH
X-ORIGINAL-URL:https://hr-saniikos.com
X-WR-CALDESC:Events for Operations Training Calendar | SIG
REFRESH-INTERVAL;VALUE=DURATION:PT1H
X-Robots-Tag:noindex
X-PUBLISHED-TTL:PT1H
BEGIN:VTIMEZONE
TZID:Europe/Athens
BEGIN:DAYLIGHT
TZOFFSETFROM:+0200
TZOFFSETTO:+0300
TZNAME:EEST
DTSTART:20250330T010000
END:DAYLIGHT
BEGIN:STANDARD
TZOFFSETFROM:+0300
TZOFFSETTO:+0200
TZNAME:EET
DTSTART:20251026T010000
END:STANDARD
BEGIN:DAYLIGHT
TZOFFSETFROM:+0200
TZOFFSETTO:+0300
TZNAME:EEST
DTSTART:20260329T010000
END:DAYLIGHT
BEGIN:STANDARD
TZOFFSETFROM:+0300
TZOFFSETTO:+0200
TZNAME:EET
DTSTART:20261025T010000
END:STANDARD
BEGIN:DAYLIGHT
TZOFFSETFROM:+0200
TZOFFSETTO:+0300
TZNAME:EEST
DTSTART:20270328T010000
END:DAYLIGHT
BEGIN:STANDARD
TZOFFSETFROM:+0300
TZOFFSETTO:+0200
TZNAME:EET
DTSTART:20271031T010000
END:STANDARD
END:VTIMEZONE
BEGIN:VEVENT
DTSTART;TZID=Europe/Athens:20260324T120000
DTEND;TZID=Europe/Athens:20260324T130000
DTSTAMP:20260420T232214
CREATED:20251010T065951Z
LAST-MODIFIED:20260309T120742Z
UID:10000050-1774353600-1774357200@hr-saniikos.com
SUMMARY:Kids Experience | D2D IR IBE
DESCRIPTION:About this Session\nIn this D2D session we discover why families travelling to Sani/Ikos Resorts with children can be assured that no matter their age\, they will be treated like VIP’s too. From a complete range of high-end baby equipment\, luxurious childcare facilities\, babysitting and nanny services\, as well as a wide array of children’s activities and baby consultant services\, every aspect at Sani is meticulously designed to guarantee a care-free vacation for parents. \n🎯 Learning Objectives\nBy the end of the session\, the participants will be able to: \n\nUnderstand the Kids Experience concept\nKnow the different Kids Experience facilities and their operating hours\nKnow the pricing of services\nBe familiarized with a wide array of children’s activities\nUnderstand the difference between babysitting & nanny service\nBe aware of the required employee qualifications\nKnow the fundamental safety procedures\n\n🎓 Target Audience\nFront Office\, Guest Relations and any other guest-facing seasonal employee
URL:https://hr-saniikos.com/training/kids-experience-d2d-ir-ibe/
LOCATION:Ikos Andalusia
CATEGORIES:D2D Sessions
ATTACH;FMTTYPE=image/jpeg:https://hr-saniikos.com/wp-content/uploads/2025/10/Ikos-Aria-_-Kids-on-the-beach_2880x1920-scaled.jpg
END:VEVENT
BEGIN:VEVENT
DTSTART;TZID=Europe/Athens:20260316T170000
DTEND;TZID=Europe/Athens:20260316T180000
DTSTAMP:20260420T232214
CREATED:20251010T073324Z
LAST-MODIFIED:20260309T120426Z
UID:10000054-1773680400-1773684000@hr-saniikos.com
SUMMARY:Babysitting Training | D2D IAN
DESCRIPTION:About this Session\nThe Babysitting Training will allow our resorts to offer a service that is in line with the expectations of their guests. A professional babysitting service allows parents the freedom to enjoy their valued time\, and demonstrates our commitment to safe\, consistent\, and professional childcare. \nYou will be provided with the necessary information to deliver a confident\, safe babysitting service during this online session. \n🎯 Learning Objectives\nBy the end of the session\, the participants will be able to: \n\nUnderstand the aim of the service provided to our guests\nFamiliarize with the safeguarding practices\nHave the opportunity to learn the professional babysitting practices we follow in our Group\n\n🎓 Target Audience\nAll seasonal employees of Operations who are confident to interact with families and toddlers in English and work at Sani/Ikos Resorts.
URL:https://hr-saniikos.com/training/babysitting-training-d2d-ian/
LOCATION:Ikos Andalusia
CATEGORIES:D2D Sessions
ATTACH;FMTTYPE=image/jpeg:https://hr-saniikos.com/wp-content/uploads/2025/10/Ikos-Resorts_Childcare-on-the-beach-_2880x1919-scaled.jpg
END:VEVENT
END:VCALENDAR