BEGIN:VCALENDAR
VERSION:2.0
PRODID:-//Operations Training Calendar | SIG - ECPv6.15.11//NONSGML v1.0//EN
CALSCALE:GREGORIAN
METHOD:PUBLISH
X-WR-CALNAME:Operations Training Calendar | SIG
X-ORIGINAL-URL:https://hr-saniikos.com
X-WR-CALDESC:Events for Operations Training Calendar | SIG
REFRESH-INTERVAL;VALUE=DURATION:PT1H
X-Robots-Tag:noindex
X-PUBLISHED-TTL:PT1H
BEGIN:VTIMEZONE
TZID:Europe/Athens
BEGIN:DAYLIGHT
TZOFFSETFROM:+0200
TZOFFSETTO:+0300
TZNAME:EEST
DTSTART:20250330T010000
END:DAYLIGHT
BEGIN:STANDARD
TZOFFSETFROM:+0300
TZOFFSETTO:+0200
TZNAME:EET
DTSTART:20251026T010000
END:STANDARD
BEGIN:DAYLIGHT
TZOFFSETFROM:+0200
TZOFFSETTO:+0300
TZNAME:EEST
DTSTART:20260329T010000
END:DAYLIGHT
BEGIN:STANDARD
TZOFFSETFROM:+0300
TZOFFSETTO:+0200
TZNAME:EET
DTSTART:20261025T010000
END:STANDARD
BEGIN:DAYLIGHT
TZOFFSETFROM:+0200
TZOFFSETTO:+0300
TZNAME:EEST
DTSTART:20270328T010000
END:DAYLIGHT
BEGIN:STANDARD
TZOFFSETFROM:+0300
TZOFFSETTO:+0200
TZNAME:EET
DTSTART:20271031T010000
END:STANDARD
END:VTIMEZONE
BEGIN:VEVENT
DTSTART;TZID=Europe/Athens:20260312T110000
DTEND;TZID=Europe/Athens:20260312T120000
DTSTAMP:20260420T232714
CREATED:20251014T061328Z
LAST-MODIFIED:20251014T061328Z
UID:10000062-1773313200-1773316800@hr-saniikos.com
SUMMARY:Sports & Recreation | D2D SR
DESCRIPTION:About this Session\nGuests at Sani Resort can savor outdoor activities\, explore the countryside by bike\, or simply choose from a vast array of branded sports Academies. During this D2D session\, we will unveil a broad spectrum of wellness\, fitness\, and sports activities for our guests to discover and relish throughout their holiday. \n🎯 Learning Objectives\nBy the end of the session\, the participants will be able to: \n\nUnderstand the wellness concept of Sani Resort\nKnow the different sports facilities & Academies and their operating hours\nKnow the vast array of wellness & fitness activities and their operating hours\nKnow what’s new this year in the Resort\nBe aware of the S&R Policies\nFamiliarize themselves with the booking system\n\n🎓 Target Audience\nAll guest-facing seasonal employees of Operations
URL:https://hr-saniikos.com/training/sports-recreation-d2d-sr/
LOCATION:Porto Sani
CATEGORIES:D2D Sessions
ATTACH;FMTTYPE=image/jpeg:https://hr-saniikos.com/wp-content/uploads/2025/10/Kids-Activities-Tennis-Class-2_2880x1921-scaled.jpg
END:VEVENT
END:VCALENDAR