BEGIN:VCALENDAR
VERSION:2.0
PRODID:-//Operations Training Calendar | SIG - ECPv6.15.11//NONSGML v1.0//EN
CALSCALE:GREGORIAN
METHOD:PUBLISH
X-ORIGINAL-URL:https://hr-saniikos.com
X-WR-CALDESC:Events for Operations Training Calendar | SIG
REFRESH-INTERVAL;VALUE=DURATION:PT1H
X-Robots-Tag:noindex
X-PUBLISHED-TTL:PT1H
BEGIN:VTIMEZONE
TZID:Europe/Athens
BEGIN:DAYLIGHT
TZOFFSETFROM:+0200
TZOFFSETTO:+0300
TZNAME:EEST
DTSTART:20250330T010000
END:DAYLIGHT
BEGIN:STANDARD
TZOFFSETFROM:+0300
TZOFFSETTO:+0200
TZNAME:EET
DTSTART:20251026T010000
END:STANDARD
BEGIN:DAYLIGHT
TZOFFSETFROM:+0200
TZOFFSETTO:+0300
TZNAME:EEST
DTSTART:20260329T010000
END:DAYLIGHT
BEGIN:STANDARD
TZOFFSETFROM:+0300
TZOFFSETTO:+0200
TZNAME:EET
DTSTART:20261025T010000
END:STANDARD
BEGIN:DAYLIGHT
TZOFFSETFROM:+0200
TZOFFSETTO:+0300
TZNAME:EEST
DTSTART:20270328T010000
END:DAYLIGHT
BEGIN:STANDARD
TZOFFSETFROM:+0300
TZOFFSETTO:+0200
TZNAME:EET
DTSTART:20271031T010000
END:STANDARD
END:VTIMEZONE
BEGIN:VEVENT
DTSTART;TZID=Europe/Athens:20260326T130000
DTEND;TZID=Europe/Athens:20260326T140000
DTSTAMP:20260422T145249
CREATED:20251009T112514Z
LAST-MODIFIED:20260309T125413Z
UID:10000039-1774530000-1774533600@hr-saniikos.com
SUMMARY:VIP Services & Transfers | D2D IAR
DESCRIPTION:About VIP Experiences D2D Session\nIn this D2D session\, we unveil an extensive range of VIP services\, immersing our guests in the realm of luxury hospitality and everlasting memories. From seamless airport pick-ups and enchanting yacht cruises to exclusive private tours\, wine tasting\, and exhilarating helicopter rides\, our guests can indulge in a myriad of unique experiences\, pampering themselves with limitless options. \n🎯 Learning Objectives\nBy the end of the session\, the participants will be able to: \n\nFathom the booking procedures\nFamiliarize with the taxi application\nUnderstand the essential parts of each package\nAnalyze the request of a guest and act according to information received from training / experience\nAssimilate the communication channels\n\n🎓 Target Audience\nFront Office\, Guest Relations and any other guest-facing seasonal employee
URL:https://hr-saniikos.com/training/vip-services-transfers-d2d-iar/
LOCATION:Ikos Aria
CATEGORIES:D2D Sessions
ATTACH;FMTTYPE=image/jpeg:https://hr-saniikos.com/wp-content/uploads/2025/10/Ikos-Resorts-_-Daily-Cruise_2880x1614-1-scaled.jpg
END:VEVENT
BEGIN:VEVENT
DTSTART;TZID=Europe/Athens:20260319T130000
DTEND;TZID=Europe/Athens:20260319T140000
DTSTAMP:20260422T145249
CREATED:20251009T112901Z
LAST-MODIFIED:20251009T112901Z
UID:10000040-1773925200-1773928800@hr-saniikos.com
SUMMARY:VIP Services & Transfers | D2D IKI
DESCRIPTION:About VIP Experiences D2D Session\nIn this D2D session\, we unveil an extensive range of VIP services\, immersing our guests in the realm of luxury hospitality and everlasting memories. From seamless airport pick-ups and enchanting yacht cruises to exclusive private tours\, wine tasting\, and exhilarating helicopter rides\, our guests can indulge in a myriad of unique experiences\, pampering themselves with limitless options. \n🎯 Learning Objectives\nBy the end of the session\, the participants will be able to: \n\nFathom the booking procedures\nFamiliarize with the taxi application\nUnderstand the essential parts of each package\nAnalyze the request of a guest and act according to information received from training / experience\nAssimilate the communication channels\n\n🎓 Target Audience\nFront Office\, Guest Relations and any other guest-facing seasonal employee
URL:https://hr-saniikos.com/training/vip-services-transfers-d2d-iki/
LOCATION:Ikos Kissamos
CATEGORIES:D2D Sessions
ATTACH;FMTTYPE=image/jpeg:https://hr-saniikos.com/wp-content/uploads/2025/10/Ikos-Resorts-_-Daily-Cruise_2880x1614-1-scaled.jpg
END:VEVENT
BEGIN:VEVENT
DTSTART;TZID=Europe/Athens:20260317T110000
DTEND;TZID=Europe/Athens:20260317T120000
DTSTAMP:20260422T145249
CREATED:20251009T103954Z
LAST-MODIFIED:20251009T111037Z
UID:10000036-1773745200-1773748800@hr-saniikos.com
SUMMARY:VIP Services & Transfers | D2D SR
DESCRIPTION:About VIP Experiences D2D Session\nIn this D2D session\, we unveil an extensive range of VIP services\, immersing our guests in the realm of luxury hospitality and everlasting memories. From seamless airport pick-ups and enchanting yacht cruises to exclusive private tours\, wine tasting\, and exhilarating helicopter rides\, our guests can indulge in a myriad of unique experiences\, pampering themselves with limitless options. \n🎯 Learning Objectives\nBy the end of the session\, the participants will be able to: \n\nFathom the booking procedures\nFamiliarize with the taxi application\nUnderstand the essential parts of each package\nAnalyze the request of a guest and act according to information received from training / experience\nAssimilate the communication channels\n\n🎓 Target Audience\nFront Office\, Guest Relations and any other guest-facing seasonal employee
URL:https://hr-saniikos.com/training/vip-services-transfers-d2d-sr/
LOCATION:Porto Sani
CATEGORIES:D2D Sessions
ATTACH;FMTTYPE=image/jpeg:https://hr-saniikos.com/wp-content/uploads/2025/10/Ikos-Resorts-_-Daily-Cruise_2880x1614-1-scaled.jpg
END:VEVENT
BEGIN:VEVENT
DTSTART;TZID=Europe/Athens:20260310T110000
DTEND;TZID=Europe/Athens:20260310T120000
DTSTAMP:20260422T145249
CREATED:20251009T112001Z
LAST-MODIFIED:20251009T112001Z
UID:10000038-1773140400-1773144000@hr-saniikos.com
SUMMARY:VIP Services & Transfers | D2D IOD
DESCRIPTION:About VIP Experiences D2D Session\nIn this D2D session\, we unveil an extensive range of VIP services\, immersing our guests in the realm of luxury hospitality and everlasting memories. From seamless airport pick-ups and enchanting yacht cruises to exclusive private tours\, wine tasting\, and exhilarating helicopter rides\, our guests can indulge in a myriad of unique experiences\, pampering themselves with limitless options. \n🎯 Learning Objectives\nBy the end of the session\, the participants will be able to: \n\nFathom the booking procedures\nFamiliarize with the taxi application\nUnderstand the essential parts of each package\nAnalyze the request of a guest and act according to information received from training / experience\nAssimilate the communication channels\n\n🎓 Target Audience\nFront Office\, Guest Relations and any other guest-facing seasonal employee
URL:https://hr-saniikos.com/training/vip-services-transfers-d2d-iod/
LOCATION:Ikos Odisia
CATEGORIES:D2D Sessions
ATTACH;FMTTYPE=image/jpeg:https://hr-saniikos.com/wp-content/uploads/2025/10/Ikos-Resorts-_-Daily-Cruise_2880x1614-1-scaled.jpg
END:VEVENT
BEGIN:VEVENT
DTSTART;TZID=Europe/Athens:20260305T130000
DTEND;TZID=Europe/Athens:20260305T140000
DTSTAMP:20260422T145249
CREATED:20251009T085956Z
LAST-MODIFIED:20251009T103056Z
UID:10000035-1772715600-1772719200@hr-saniikos.com
SUMMARY:VIP Services & Transfers | D2D IDA
DESCRIPTION:About VIP Experiences D2D Session\nIn this D2D session\, we unveil an extensive range of VIP services\, immersing our guests in the realm of luxury hospitality and everlasting memories. From seamless airport pick-ups and enchanting yacht cruises to exclusive private tours\, wine tasting\, and exhilarating helicopter rides\, our guests can indulge in a myriad of unique experiences\, pampering themselves with limitless options. \n🎯 Learning Objectives\nBy the end of the session\, the participants will be able to: \n\nFathom the booking procedures\nFamiliarize with the taxi application\nUnderstand the essential parts of each package\nAnalyze the request of a guest and act according to information received from training / experience\nAssimilate the communication channels\n\n🎓 Target Audience\nFront Office\, Guest Relations and any other guest-facing seasonal employee
URL:https://hr-saniikos.com/training/vip-services-transfers-d2d-ida/
LOCATION:Ikos Dassia
CATEGORIES:D2D Sessions
ATTACH;FMTTYPE=image/jpeg:https://hr-saniikos.com/wp-content/uploads/2025/10/Ikos-Resorts-_-Daily-Cruise_2880x1614-1-scaled.jpg
END:VEVENT
BEGIN:VEVENT
DTSTART;TZID=Europe/Athens:20260304T130000
DTEND;TZID=Europe/Athens:20260304T140000
DTSTAMP:20260422T145249
CREATED:20251009T111442Z
LAST-MODIFIED:20251009T111800Z
UID:10000037-1772629200-1772632800@hr-saniikos.com
SUMMARY:VIP Services & Transfers | D2D IOL
DESCRIPTION:About VIP Experiences D2D Session\nIn this D2D session\, we unveil an extensive range of VIP services\, immersing our guests in the realm of luxury hospitality and everlasting memories. From seamless airport pick-ups and enchanting yacht cruises to exclusive private tours\, wine tasting\, and exhilarating helicopter rides\, our guests can indulge in a myriad of unique experiences\, pampering themselves with limitless options. \n🎯 Learning Objectives\nBy the end of the session\, the participants will be able to: \n\nFathom the booking procedures\nFamiliarize with the taxi application\nUnderstand the essential parts of each package\nAnalyze the request of a guest and act according to information received from training / experience\nAssimilate the communication channels\n\n🎓 Target Audience\nFront Office\, Guest Relations and any other guest-facing seasonal employee
URL:https://hr-saniikos.com/training/vip-services-transfers-d2d-iol/
LOCATION:Ikos Olivia
CATEGORIES:D2D Sessions
ATTACH;FMTTYPE=image/jpeg:https://hr-saniikos.com/wp-content/uploads/2025/10/Ikos-Resorts-_-Daily-Cruise_2880x1614-1-scaled.jpg
END:VEVENT
BEGIN:VEVENT
DTSTART;TZID=Europe/Athens:20260303T110000
DTEND;TZID=Europe/Athens:20260303T120000
DTSTAMP:20260422T145249
CREATED:20251009T085620Z
LAST-MODIFIED:20251009T114112Z
UID:10000034-1772535600-1772539200@hr-saniikos.com
SUMMARY:VIP Services & Transfers | D2D IOC
DESCRIPTION:About VIP Experiences D2D Session\nIn this D2D session\, we unveil an extensive range of VIP services\, immersing our guests in the realm of luxury hospitality and everlasting memories. From seamless airport pick-ups and enchanting yacht cruises to exclusive private tours\, wine tasting\, and exhilarating helicopter rides\, our guests can indulge in a myriad of unique experiences\, pampering themselves with limitless options. \n🎯 Learning Objectives\nBy the end of the session\, the participants will be able to: \n\nFathom the booking procedures\nFamiliarize with the taxi application\nUnderstand the essential parts of each package\nAnalyze the request of a guest and act according to information received from training / experience\nAssimilate the communication channels\n\n🎓 Target Audience\nFront Office\, Guest Relations and any other guest-facing seasonal employee
URL:https://hr-saniikos.com/training/vip-services-transfers-d2d-ioc/
LOCATION:Ikos Oceania
CATEGORIES:D2D Sessions
ATTACH;FMTTYPE=image/jpeg:https://hr-saniikos.com/wp-content/uploads/2025/10/Ikos-Resorts-_-Daily-Cruise_2880x1614-1-scaled.jpg
END:VEVENT
END:VCALENDAR