BEGIN:VCALENDAR
VERSION:2.0
PRODID:-//Operations Training Calendar | SIG - ECPv6.15.11//NONSGML v1.0//EN
CALSCALE:GREGORIAN
METHOD:PUBLISH
X-WR-CALNAME:Operations Training Calendar | SIG
X-ORIGINAL-URL:https://hr-saniikos.com
X-WR-CALDESC:Events for Operations Training Calendar | SIG
REFRESH-INTERVAL;VALUE=DURATION:PT1H
X-Robots-Tag:noindex
X-PUBLISHED-TTL:PT1H
BEGIN:VTIMEZONE
TZID:Europe/Athens
BEGIN:DAYLIGHT
TZOFFSETFROM:+0200
TZOFFSETTO:+0300
TZNAME:EEST
DTSTART:20250330T010000
END:DAYLIGHT
BEGIN:STANDARD
TZOFFSETFROM:+0300
TZOFFSETTO:+0200
TZNAME:EET
DTSTART:20251026T010000
END:STANDARD
BEGIN:DAYLIGHT
TZOFFSETFROM:+0200
TZOFFSETTO:+0300
TZNAME:EEST
DTSTART:20260329T010000
END:DAYLIGHT
BEGIN:STANDARD
TZOFFSETFROM:+0300
TZOFFSETTO:+0200
TZNAME:EET
DTSTART:20261025T010000
END:STANDARD
BEGIN:DAYLIGHT
TZOFFSETFROM:+0200
TZOFFSETTO:+0300
TZNAME:EEST
DTSTART:20270328T010000
END:DAYLIGHT
BEGIN:STANDARD
TZOFFSETFROM:+0300
TZOFFSETTO:+0200
TZNAME:EET
DTSTART:20271031T010000
END:STANDARD
END:VTIMEZONE
BEGIN:VEVENT
DTSTART;TZID=Europe/Athens:20260313T140000
DTEND;TZID=Europe/Athens:20260313T150000
DTSTAMP:20260420T232338
CREATED:20251010T055836Z
LAST-MODIFIED:20251010T055836Z
UID:10000047-1773410400-1773414000@hr-saniikos.com
SUMMARY:Energy and Water Conservation Plan\, Basic Guidelines and Enhanced Resource Management | D2D IOD
DESCRIPTION:About this Session\nThe training course covers the importance of energy and water as resources and provides practical strategies for energy and water conservation for every department. It includes interactive discussions on engaging employees\, emphasizes the integration of sustainability into day-to-day operations and attempts the creation of a conservation-focused culture. \nLastly\, it highlights the importance of technologies such as building automation and information such as energy monitoring systems as powerful tools on detecting equipment failure\, leaks\, wasted energy and reduction of maintenance costs. \n🎯 Learning Objectives\nBy the end of the session\, the participants will be able to: \n\nUnderstand the fundamental concepts of energy and water conservation in our group resorts and their benefits to the environment and business\nAcquire practical strategies and take up specific actions for reducing energy consumption and water usage\nDevelop skills in engaging employees and guests in conservation efforts and understand the importance of creating a culture focused on sustainability\nMonitor and guide employees in a more effective manner on the day-to-day business\n\n🎓 Target Audience\nDepartmental Managers of Operations as well as personnel interested in Energy and Water aspects.
URL:https://hr-saniikos.com/training/energy-and-water-conservation-plan-basic-guidelines-and-enhanced-resource-management-d2d-iod/
LOCATION:Ikos Odisia
CATEGORIES:D2D Sessions
ATTACH;FMTTYPE=image/jpeg:https://hr-saniikos.com/wp-content/uploads/2025/10/Sani-Resort-_-Forest-walks_2880x1901-1-scaled.jpg
END:VEVENT
BEGIN:VEVENT
DTSTART;TZID=Europe/Athens:20260312T140000
DTEND;TZID=Europe/Athens:20260312T150000
DTSTAMP:20260420T232338
CREATED:20251010T054918Z
LAST-MODIFIED:20251010T055319Z
UID:10000045-1773324000-1773327600@hr-saniikos.com
SUMMARY:Energy and Water Conservation Plan\, Basic Guidelines and Enhanced Resource Management | D2D IAR
DESCRIPTION:About this Session\nThe training course covers the importance of energy and water as resources and provides practical strategies for energy and water conservation for every department. It includes interactive discussions on engaging employees\, emphasizes the integration of sustainability into day-to-day operations and attempts the creation of a conservation-focused culture. \nLastly\, it highlights the importance of technologies such as building automation and information such as energy monitoring systems as powerful tools on detecting equipment failure\, leaks\, wasted energy and reduction of maintenance costs. \n🎯 Learning Objectives\nBy the end of the session\, the participants will be able to: \n\nUnderstand the fundamental concepts of energy and water conservation in our group resorts and their benefits to the environment and business\nAcquire practical strategies and take up specific actions for reducing energy consumption and water usage\nDevelop skills in engaging employees and guests in conservation efforts and understand the importance of creating a culture focused on sustainability\nMonitor and guide employees in a more effective manner on the day-to-day business\n\n🎓 Target Audience\nDepartmental Managers of Operations as well as personnel interested in Energy and Water aspects.
URL:https://hr-saniikos.com/training/energy-and-water-conservation-plan-basic-guidelines-and-enhanced-resource-management-d2d-iar/
LOCATION:Ikos Aria
CATEGORIES:D2D Sessions
ATTACH;FMTTYPE=image/jpeg:https://hr-saniikos.com/wp-content/uploads/2025/10/Sani-Resort-_-Forest-walks_2880x1901-1-scaled.jpg
END:VEVENT
BEGIN:VEVENT
DTSTART;TZID=Europe/Athens:20260309T140000
DTEND;TZID=Europe/Athens:20260309T150000
DTSTAMP:20260420T232338
CREATED:20251010T053016Z
LAST-MODIFIED:20251010T055343Z
UID:10000042-1773064800-1773068400@hr-saniikos.com
SUMMARY:Energy and Water Conservation Plan\, Basic Guidelines and Enhanced Resource Management | D2D SR
DESCRIPTION:About this Session\nThe training course covers the importance of energy and water as resources and provides practical strategies for energy and water conservation for every department. It includes interactive discussions on engaging employees\, emphasizes the integration of sustainability into day-to-day operations and attempts the creation of a conservation-focused culture. \nLastly\, it highlights the importance of technologies such as building automation and information such as energy monitoring systems as powerful tools on detecting equipment failure\, leaks\, wasted energy and reduction of maintenance costs. \n🎯 Learning Objectives\nBy the end of the session\, the participants will be able to: \n\nUnderstand the fundamental concepts of energy and water conservation in our group resorts and their benefits to the environment and business\nAcquire practical strategies and take up specific actions for reducing energy consumption and water usage\nDevelop skills in engaging employees and guests in conservation efforts and understand the importance of creating a culture focused on sustainability\nMonitor and guide employees in a more effective manner on the day-to-day business\n\n🎓 Target Audience\nDepartmental Managers of Operations as well as personnel interested in Energy and Water aspects.
URL:https://hr-saniikos.com/training/energy-and-water-conservation-plan-basic-guidelines-and-enhanced-resource-management-d2d-sr/
LOCATION:Porto Sani
CATEGORIES:D2D Sessions
ATTACH;FMTTYPE=image/jpeg:https://hr-saniikos.com/wp-content/uploads/2025/10/Sani-Resort-_-Forest-walks_2880x1901-1-scaled.jpg
END:VEVENT
BEGIN:VEVENT
DTSTART;TZID=Europe/Athens:20260306T130000
DTEND;TZID=Europe/Athens:20260306T140000
DTSTAMP:20260420T232338
CREATED:20251010T054501Z
LAST-MODIFIED:20251010T055409Z
UID:10000044-1772802000-1772805600@hr-saniikos.com
SUMMARY:Energy and Water Conservation Plan\, Basic Guidelines and Enhanced Resource Management | D2D IOL
DESCRIPTION:About this Session\nThe training course covers the importance of energy and water as resources and provides practical strategies for energy and water conservation for every department. It includes interactive discussions on engaging employees\, emphasizes the integration of sustainability into day-to-day operations and attempts the creation of a conservation-focused culture. \nLastly\, it highlights the importance of technologies such as building automation and information such as energy monitoring systems as powerful tools on detecting equipment failure\, leaks\, wasted energy and reduction of maintenance costs. \n🎯 Learning Objectives\nBy the end of the session\, the participants will be able to: \n\nUnderstand the fundamental concepts of energy and water conservation in our group resorts and their benefits to the environment and business\nAcquire practical strategies and take up specific actions for reducing energy consumption and water usage\nDevelop skills in engaging employees and guests in conservation efforts and understand the importance of creating a culture focused on sustainability\nMonitor and guide employees in a more effective manner on the day-to-day business\n\n🎓 Target Audience\nDepartmental Managers of Operations as well as personnel interested in Energy and Water aspects.
URL:https://hr-saniikos.com/training/energy-and-water-conservation-plan-basic-guidelines-and-enhanced-resource-management-d2d-iol/
LOCATION:Ikos Olivia
CATEGORIES:D2D Sessions
ATTACH;FMTTYPE=image/jpeg:https://hr-saniikos.com/wp-content/uploads/2025/10/Sani-Resort-_-Forest-walks_2880x1901-1-scaled.jpg
END:VEVENT
BEGIN:VEVENT
DTSTART;TZID=Europe/Athens:20260306T110000
DTEND;TZID=Europe/Athens:20260306T120000
DTSTAMP:20260420T232338
CREATED:20251010T060258Z
LAST-MODIFIED:20251010T060258Z
UID:10000048-1772794800-1772798400@hr-saniikos.com
SUMMARY:Energy and Water Conservation Plan\, Basic Guidelines and Enhanced Resource Management | D2D IDA
DESCRIPTION:About this Session\nThe training course covers the importance of energy and water as resources and provides practical strategies for energy and water conservation for every department. It includes interactive discussions on engaging employees\, emphasizes the integration of sustainability into day-to-day operations and attempts the creation of a conservation-focused culture. \nLastly\, it highlights the importance of technologies such as building automation and information such as energy monitoring systems as powerful tools on detecting equipment failure\, leaks\, wasted energy and reduction of maintenance costs. \n🎯 Learning Objectives\nBy the end of the session\, the participants will be able to: \n\nUnderstand the fundamental concepts of energy and water conservation in our group resorts and their benefits to the environment and business\nAcquire practical strategies and take up specific actions for reducing energy consumption and water usage\nDevelop skills in engaging employees and guests in conservation efforts and understand the importance of creating a culture focused on sustainability\nMonitor and guide employees in a more effective manner on the day-to-day business\n\n🎓 Target Audience\nDepartmental Managers of Operations as well as personnel interested in Energy and Water aspects.
URL:https://hr-saniikos.com/training/energy-and-water-conservation-plan-basic-guidelines-and-enhanced-resource-management-d2d-ida/
LOCATION:Ikos Dassia
CATEGORIES:D2D Sessions
ATTACH;FMTTYPE=image/jpeg:https://hr-saniikos.com/wp-content/uploads/2025/10/Sani-Resort-_-Forest-walks_2880x1901-1-scaled.jpg
END:VEVENT
BEGIN:VEVENT
DTSTART;TZID=Europe/Athens:20260304T140000
DTEND;TZID=Europe/Athens:20260304T150000
DTSTAMP:20260420T232338
CREATED:20251009T131105Z
LAST-MODIFIED:20251010T055431Z
UID:10000041-1772632800-1772636400@hr-saniikos.com
SUMMARY:Energy and Water Conservation Plan\, Basic Guidelines and Enhanced Resource Management | D2D IOC
DESCRIPTION:About this Session\nThe training course covers the importance of energy and water as resources and provides practical strategies for energy and water conservation for every department. It includes interactive discussions on engaging employees\, emphasizes the integration of sustainability into day-to-day operations and attempts the creation of a conservation-focused culture. \nLastly\, it highlights the importance of technologies such as building automation and information such as energy monitoring systems as powerful tools on detecting equipment failure\, leaks\, wasted energy and reduction of maintenance costs. \n🎯 Learning Objectives\nBy the end of the session\, the participants will be able to: \n\nUnderstand the fundamental concepts of energy and water conservation in our group resorts and their benefits to the environment and business\nAcquire practical strategies and take up specific actions for reducing energy consumption and water usage\nDevelop skills in engaging employees and guests in conservation efforts and understand the importance of creating a culture focused on sustainability\nMonitor and guide employees in a more effective manner on the day-to-day business\n\n🎓 Target Audience\nDepartmental Managers of Operations as well as personnel interested in Energy and Water aspects.
URL:https://hr-saniikos.com/training/d2d-energy-and-water-conservation-plan-basic-guidelines-and-enhanced-resource-management/
LOCATION:Ikos Oceania
CATEGORIES:D2D Sessions
ATTACH;FMTTYPE=image/jpeg:https://hr-saniikos.com/wp-content/uploads/2025/10/Sani-Resort-_-Forest-walks_2880x1901-1-scaled.jpg
END:VEVENT
BEGIN:VEVENT
DTSTART;TZID=Europe/Athens:20260304T120000
DTEND;TZID=Europe/Athens:20260304T130000
DTSTAMP:20260420T232338
CREATED:20251010T055254Z
LAST-MODIFIED:20251010T055254Z
UID:10000046-1772625600-1772629200@hr-saniikos.com
SUMMARY:Energy and Water Conservation Plan\, Basic Guidelines and Enhanced Resource Management | D2D IPP
DESCRIPTION:About this Session\nThe training course covers the importance of energy and water as resources and provides practical strategies for energy and water conservation for every department. It includes interactive discussions on engaging employees\, emphasizes the integration of sustainability into day-to-day operations and attempts the creation of a conservation-focused culture. \nLastly\, it highlights the importance of technologies such as building automation and information such as energy monitoring systems as powerful tools on detecting equipment failure\, leaks\, wasted energy and reduction of maintenance costs. \n🎯 Learning Objectives\nBy the end of the session\, the participants will be able to: \n\nUnderstand the fundamental concepts of energy and water conservation in our group resorts and their benefits to the environment and business\nAcquire practical strategies and take up specific actions for reducing energy consumption and water usage\nDevelop skills in engaging employees and guests in conservation efforts and understand the importance of creating a culture focused on sustainability\nMonitor and guide employees in a more effective manner on the day-to-day business\n\n🎓 Target Audience\nDepartmental Managers of Operations as well as personnel interested in Energy and Water aspects.
URL:https://hr-saniikos.com/training/energy-and-water-conservation-plan-basic-guidelines-and-enhanced-resource-management-d2d-ipp/
LOCATION:Ikos Porto Petro
CATEGORIES:D2D Sessions
ATTACH;FMTTYPE=image/jpeg:https://hr-saniikos.com/wp-content/uploads/2025/10/Sani-Resort-_-Forest-walks_2880x1901-1-scaled.jpg
END:VEVENT
BEGIN:VEVENT
DTSTART;TZID=Europe/Athens:20260302T120000
DTEND;TZID=Europe/Athens:20260302T130000
DTSTAMP:20260420T232338
CREATED:20251010T053617Z
LAST-MODIFIED:20251010T053847Z
UID:10000043-1772452800-1772456400@hr-saniikos.com
SUMMARY:Energy and Water Conservation Plan\, Basic Guidelines and Enhanced Resource Management | D2D IAN
DESCRIPTION:About this Session\nThe training course covers the importance of energy and water as resources and provides practical strategies for energy and water conservation for every department. It includes interactive discussions on engaging staff\, emphasizes the integration of sustainability into day-to-day operations and attempts the creation of a conservation-focused culture. \nLastly\, it highlights the importance of technologies such as building automation and information such as energy monitoring systems as powerful tools on detecting equipment failure\, leaks\, wasted energy and reduction of maintenance costs. \n🎯 Learning Objectives\nBy the end of the session\, the participants will be able to: \n\nUnderstand the fundamental concepts of energy and water conservation in our group resorts and their benefits to the environment and business\nAcquire practical strategies and take up specific actions for reducing energy consumption and water usage\nDevelop skills in engaging employees and guests in conservation efforts and understand the importance of creating a culture focused on sustainability\nMonitor and guide employees in a more effective manner on the day-to-day business\n\n🎓 Target Audience\nDepartmental Managers of Operations as well as personnel interested in Energy and Water aspects.
URL:https://hr-saniikos.com/training/energy-and-water-conservation-plan-basic-guidelines-and-enhanced-resource-management-d2d-ian/
LOCATION:Ikos Andalusia
CATEGORIES:D2D Sessions
ATTACH;FMTTYPE=image/jpeg:https://hr-saniikos.com/wp-content/uploads/2025/10/Sani-Resort-_-Forest-walks_2880x1901-1-scaled.jpg
END:VEVENT
END:VCALENDAR