BEGIN:VCALENDAR
VERSION:2.0
PRODID:-//Operations Training Calendar | SIG - ECPv6.15.11//NONSGML v1.0//EN
CALSCALE:GREGORIAN
METHOD:PUBLISH
X-ORIGINAL-URL:https://hr-saniikos.com
X-WR-CALDESC:Events for Operations Training Calendar | SIG
REFRESH-INTERVAL;VALUE=DURATION:PT1H
X-Robots-Tag:noindex
X-PUBLISHED-TTL:PT1H
BEGIN:VTIMEZONE
TZID:Europe/Athens
BEGIN:DAYLIGHT
TZOFFSETFROM:+0200
TZOFFSETTO:+0300
TZNAME:EEST
DTSTART:20250330T010000
END:DAYLIGHT
BEGIN:STANDARD
TZOFFSETFROM:+0300
TZOFFSETTO:+0200
TZNAME:EET
DTSTART:20251026T010000
END:STANDARD
BEGIN:DAYLIGHT
TZOFFSETFROM:+0200
TZOFFSETTO:+0300
TZNAME:EEST
DTSTART:20260329T010000
END:DAYLIGHT
BEGIN:STANDARD
TZOFFSETFROM:+0300
TZOFFSETTO:+0200
TZNAME:EET
DTSTART:20261025T010000
END:STANDARD
BEGIN:DAYLIGHT
TZOFFSETFROM:+0200
TZOFFSETTO:+0300
TZNAME:EEST
DTSTART:20270328T010000
END:DAYLIGHT
BEGIN:STANDARD
TZOFFSETFROM:+0300
TZOFFSETTO:+0200
TZNAME:EET
DTSTART:20271031T010000
END:STANDARD
END:VTIMEZONE
BEGIN:VEVENT
DTSTART;TZID=Europe/Athens:20260420T160000
DTEND;TZID=Europe/Athens:20260420T170000
DTSTAMP:20260420T215007
CREATED:20251013T055736Z
LAST-MODIFIED:20251013T085758Z
UID:10000058-1776700800-1776704400@hr-saniikos.com
SUMMARY:Safeguarding | D2D
DESCRIPTION:About this Session\nThis D2D training session aims to equip employees with a foundational understanding of safeguarding practices to ensure a safe\, inclusive\, and protective environment for children and vulnerable adults. \nSafeguarding is a shared responsibility. Sani/Ikos is committed to equality\, fairness\, and inclusion\, and will always strive to work collaboratively with parents\, carers\, and relevant professionals to ensure that every individual can participate in activities that are safe and suited to their needs and abilities. \n🎯 Learning Objectives\nBy the end of the session\, the participants will be able to: \n\nIdentify the Designated Safeguarding Lead (DSL) and deputies\, and understand their roles.\nDescribe their own responsibilities in safeguarding children and vulnerable adults.\nRecognise the importance of creating and maintaining a safe environment for all guests\, especially children and adults at risk.\nTake appropriate action when responding to a safeguarding concern or disclosure.\nUnderstand how to support someone who raises a concern or makes a disclosure.\nContribute to a culture of safety and respect across all departments at Sani/Ikos.\n\n🎓 Target Audience\nAll seasonal employees of Operations who are confident to interact with families and toddlers in English and work at Sani/Ikos Resorts.
URL:https://hr-saniikos.com/training/safeguarding-d2d-2/
LOCATION:Ikos Kissamos
CATEGORIES:D2D Sessions
ATTACH;FMTTYPE=image/jpeg:https://hr-saniikos.com/wp-content/uploads/2025/10/Ikos-Aria-_-Smiles_2880x1920-scaled.jpg
END:VEVENT
BEGIN:VEVENT
DTSTART;TZID=Europe/Athens:20260313T150000
DTEND;TZID=Europe/Athens:20260313T160000
DTSTAMP:20260420T215008
CREATED:20251013T055133Z
LAST-MODIFIED:20260220T144344Z
UID:10000057-1773414000-1773417600@hr-saniikos.com
SUMMARY:Safeguarding | D2D
DESCRIPTION:About this Session\nThis D2D training session aims to equip employees with a foundational understanding of safeguarding practices to ensure a safe\, inclusive\, and protective environment for children and vulnerable adults. \nSafeguarding is a shared responsibility. Sani/Ikos is committed to equality\, fairness\, and inclusion\, and will always strive to work collaboratively with parents\, carers\, and relevant professionals to ensure that every individual can participate in activities that are safe and suited to their needs and abilities. \n🎯 Learning Objectives\nBy the end of the session\, the participants will be able to: \n\nIdentify the Designated Safeguarding Lead (DSL) and deputies\, and understand their roles.\nDescribe their own responsibilities in safeguarding children and vulnerable adults.\nRecognise the importance of creating and maintaining a safe environment for all guests\, especially children and adults at risk.\nTake appropriate action when responding to a safeguarding concern or disclosure.\nUnderstand how to support someone who raises a concern or makes a disclosure.\nContribute to a culture of safety and respect across all departments at Sani/Ikos.\n\n🎓 Target Audience\nAll seasonal employees of Operations who are confident to interact with families and toddlers in English and work at Sani/Ikos Resorts.
URL:https://hr-saniikos.com/training/safeguarding-d2d/
LOCATION:Ikos Andalusia
CATEGORIES:D2D Sessions
ATTACH;FMTTYPE=image/jpeg:https://hr-saniikos.com/wp-content/uploads/2025/10/Ikos-Aria-_-Smiles_2880x1920-scaled.jpg
END:VEVENT
END:VCALENDAR