BEGIN:VCALENDAR
VERSION:2.0
PRODID:-//Operations Training Calendar | SIG - ECPv6.15.11//NONSGML v1.0//EN
CALSCALE:GREGORIAN
METHOD:PUBLISH
X-WR-CALNAME:Operations Training Calendar | SIG
X-ORIGINAL-URL:https://hr-saniikos.com
X-WR-CALDESC:Events for Operations Training Calendar | SIG
REFRESH-INTERVAL;VALUE=DURATION:PT1H
X-Robots-Tag:noindex
X-PUBLISHED-TTL:PT1H
BEGIN:VTIMEZONE
TZID:Europe/Athens
BEGIN:DAYLIGHT
TZOFFSETFROM:+0200
TZOFFSETTO:+0300
TZNAME:EEST
DTSTART:20250330T010000
END:DAYLIGHT
BEGIN:STANDARD
TZOFFSETFROM:+0300
TZOFFSETTO:+0200
TZNAME:EET
DTSTART:20251026T010000
END:STANDARD
BEGIN:DAYLIGHT
TZOFFSETFROM:+0200
TZOFFSETTO:+0300
TZNAME:EEST
DTSTART:20260329T010000
END:DAYLIGHT
BEGIN:STANDARD
TZOFFSETFROM:+0300
TZOFFSETTO:+0200
TZNAME:EET
DTSTART:20261025T010000
END:STANDARD
BEGIN:DAYLIGHT
TZOFFSETFROM:+0200
TZOFFSETTO:+0300
TZNAME:EEST
DTSTART:20270328T010000
END:DAYLIGHT
BEGIN:STANDARD
TZOFFSETFROM:+0300
TZOFFSETTO:+0200
TZNAME:EET
DTSTART:20271031T010000
END:STANDARD
END:VTIMEZONE
BEGIN:VEVENT
DTSTART;TZID=Europe/Athens:20260421T110000
DTEND;TZID=Europe/Athens:20260421T120000
DTSTAMP:20260420T215623
CREATED:20260312T151514Z
LAST-MODIFIED:20260312T151514Z
UID:10000250-1776769200-1776772800@hr-saniikos.com
SUMMARY:Wine Trainings: Greek Terroir | SR
DESCRIPTION:During this on-site 1-hour session\, participants will focus on wines from the following Greek regions: \n\nSantorini – Assyrtiko\nNaoussa – Xinomavro\nNemea – Agiorgitiko\n\nThis session’s goal is to increase employees’ confidence when recommending Greek wines. \nDelivered by George Papadopoulos\, the session is designed for all F&B employees.
URL:https://hr-saniikos.com/training/wine-trainings-greek-terroir-sr/
LOCATION:Porto Sani
CATEGORIES:F&B Workshops
END:VEVENT
BEGIN:VEVENT
DTSTART;TZID=Europe/Athens:20260421T120000
DTEND;TZID=Europe/Athens:20260421T133000
DTSTAMP:20260420T215623
CREATED:20251014T120114Z
LAST-MODIFIED:20251014T120114Z
UID:10000078-1776772800-1776778200@hr-saniikos.com
SUMMARY:A/R Night Auditor Opera Procedures | D2D SC
DESCRIPTION:About this Session\nIn this D2D session\, we will emphasize the pivotal role of the Night Auditor\, specifically their expertise in the Opera Property Management System (PMS)\, in ensuring a seamless hotel operation. The Night Auditor’s responsibilities include reconciling financial transactions\, addressing guest needs during late hours\, and preparing accurate reports for the next day. \nThis role not only upholds financial accuracy but also significantly contributes to guest satisfaction during non-standard hours. \n🎯 Learning Objectives\nBy the end of the session\, the participants will be able to: \n\nComprehend the necessary AR procedures and requirements\nDemonstrate an understanding of the way their actions affect the daily reconciliation process\nRecognize the significance of their role and performance\n\n🎓 Target Audience\nNight Auditors
URL:https://hr-saniikos.com/training/a-r-night-auditor-opera-procedures-d2d-sc/
LOCATION:Sani Club
CATEGORIES:D2D Sessions
ATTACH;FMTTYPE=image/jpeg:https://hr-saniikos.com/wp-content/uploads/2025/10/Ikos_dassia_front_office_area_Sky_2880x2048-3-scaled.jpg
END:VEVENT
BEGIN:VEVENT
DTSTART;VALUE=DATE:20260423
DTEND;VALUE=DATE:20260424
DTSTAMP:20260420T215623
CREATED:20251009T054529Z
LAST-MODIFIED:20251009T065003Z
UID:10000028-1776902400-1776988799@hr-saniikos.com
SUMMARY:Opening IOD / IAR / SC
DESCRIPTION:
URL:https://hr-saniikos.com/training/opening-iod-iar-sc/
LOCATION:Ikos Odisia
CATEGORIES:- Dates to Remember -
END:VEVENT
BEGIN:VEVENT
DTSTART;TZID=Europe/Athens:20260423T123000
DTEND;TZID=Europe/Athens:20260423T140000
DTSTAMP:20260420T215623
CREATED:20260420T084613Z
LAST-MODIFIED:20260420T084613Z
UID:10000332-1776947400-1776952800@hr-saniikos.com
SUMMARY:Food Safety & Hygiene GR | IR & SR
DESCRIPTION:During this 1.5-hour session\, participants will have the opportunity to build the knowledge\, confidence\, and facilitation skills required to effectively cascade essential Food Safety & Hygiene standards and practices across their teams. \nInternal training on Food Safety & Hygiene remains mandatory under our HACCP and ISO 22000:2018 procedures\, and is intended to further support alignment and consistency across all departments handling food. \nDelivered by Sotiris Milonas in collaboration with our external partner Evangelos Panagiotou\, the session is designed for all food service handlers\, bars and warehouse operations\, regardless of hotel\, outlet\, level or position. \nThe session will be delivered live online through Microsoft Teams.
URL:https://hr-saniikos.com/training/food-safety-hygiene-gr-ir-sr-4/
LOCATION:Ikos Aria
CATEGORIES:Food & Safety
ATTACH;FMTTYPE=image/jpeg:https://hr-saniikos.com/wp-content/uploads/2026/03/Green_2880x1920-scaled.jpg
END:VEVENT
BEGIN:VEVENT
DTSTART;TZID=Europe/Athens:20260424T140000
DTEND;TZID=Europe/Athens:20260424T150000
DTSTAMP:20260420T215623
CREATED:20251015T060720Z
LAST-MODIFIED:20251017T094127Z
UID:10000091-1777039200-1777042800@hr-saniikos.com
SUMMARY:A/R Procedures in Markets | D2D SC
DESCRIPTION:About this Session\nIn this D2D session\, we underscore the importance of staying informed about the latest updates in financial procedures within the Markets sector. Being current with these developments is crucial for ensuring accuracy in transactions\, transparent financial reporting\, and overall operational efficiency. \nThis knowledge empowers professionals who work at the Markets to navigate the financial landscape adeptly\, proactively address any discrepancies\, and uphold the financial integrity of the establishment. \n🎯 Learning Objectives\nBy the end of the session\, the participants will be able to: \n\nComprehend the necessary A/R procedures and requirements\nDemonstrate an understanding of the way their actions affect the daily reconciliation process\nRecognize the significance of their role and performance\n\n🎓 Target Audience\nMarket Managers\, Market team members
URL:https://hr-saniikos.com/training/a-r-procedures-in-markets-d2d-sc/
LOCATION:Sani Club
CATEGORIES:D2D Sessions
ATTACH;FMTTYPE=image/jpeg:https://hr-saniikos.com/wp-content/uploads/2025/10/ikos_dassia_anne_Semonin_2880x1925-scaled.jpg
END:VEVENT
BEGIN:VEVENT
DTSTART;TZID=Europe/Athens:20260427T110000
DTEND;TZID=Europe/Athens:20260427T120000
DTSTAMP:20260420T215623
CREATED:20260312T151936Z
LAST-MODIFIED:20260312T151936Z
UID:10000251-1777287600-1777291200@hr-saniikos.com
SUMMARY:Wine Trainings: Luxury & Champagne | SR
DESCRIPTION:During this on-site 1-hour session\, participants will focus on prestige cuvées and luxury positioning. \nKey Houses: \n\nDom Pérignon\nKrug\nLouis Roederer Cristal\n\nThis session’s goal is to increase sales of premium products. \nDelivered by George Papadopoulos\, the session is designed for all F&B employees.
URL:https://hr-saniikos.com/training/wine-trainings-luxury-champagne-sr/
LOCATION:Porto Sani
CATEGORIES:F&B Workshops
END:VEVENT
BEGIN:VEVENT
DTSTART;VALUE=DATE:20261101
DTEND;VALUE=DATE:20261102
DTSTAMP:20260420T215623
CREATED:20251008T093548Z
LAST-MODIFIED:20251009T064643Z
UID:10000021-1793491200-1793577599@hr-saniikos.com
SUMMARY:Closing IOC / IOL / IDA / IOD / IAR / IKI / SB / SC / PS / SA / SD
DESCRIPTION:
URL:https://hr-saniikos.com/training/closing-sani-asterias/
LOCATION:Sani Asterias
CATEGORIES:- Dates to Remember -
END:VEVENT
END:VCALENDAR