BEGIN:VCALENDAR
VERSION:2.0
PRODID:-//Operations Training Calendar | SIG - ECPv6.15.11//NONSGML v1.0//EN
CALSCALE:GREGORIAN
METHOD:PUBLISH
X-WR-CALNAME:Operations Training Calendar | SIG
X-ORIGINAL-URL:https://hr-saniikos.com
X-WR-CALDESC:Events for Operations Training Calendar | SIG
REFRESH-INTERVAL;VALUE=DURATION:PT1H
X-Robots-Tag:noindex
X-PUBLISHED-TTL:PT1H
BEGIN:VTIMEZONE
TZID:Europe/Athens
BEGIN:DAYLIGHT
TZOFFSETFROM:+0200
TZOFFSETTO:+0300
TZNAME:EEST
DTSTART:20250330T010000
END:DAYLIGHT
BEGIN:STANDARD
TZOFFSETFROM:+0300
TZOFFSETTO:+0200
TZNAME:EET
DTSTART:20251026T010000
END:STANDARD
BEGIN:DAYLIGHT
TZOFFSETFROM:+0200
TZOFFSETTO:+0300
TZNAME:EEST
DTSTART:20260329T010000
END:DAYLIGHT
BEGIN:STANDARD
TZOFFSETFROM:+0300
TZOFFSETTO:+0200
TZNAME:EET
DTSTART:20261025T010000
END:STANDARD
BEGIN:DAYLIGHT
TZOFFSETFROM:+0200
TZOFFSETTO:+0300
TZNAME:EEST
DTSTART:20270328T010000
END:DAYLIGHT
BEGIN:STANDARD
TZOFFSETFROM:+0300
TZOFFSETTO:+0200
TZNAME:EET
DTSTART:20271031T010000
END:STANDARD
END:VTIMEZONE
BEGIN:VEVENT
DTSTART;TZID=Europe/Athens:20260421T160000
DTEND;TZID=Europe/Athens:20260421T170000
DTSTAMP:20260420T215419
CREATED:20251010T072910Z
LAST-MODIFIED:20260309T153726Z
UID:10000053-1776787200-1776790800@hr-saniikos.com
SUMMARY:Babysitting Training | D2D IR GR
DESCRIPTION:About this Session\nThe Babysitting Training will allow our resorts to offer a service that is in line with the expectations of their guests. A professional babysitting service allows parents the freedom to enjoy their valued time\, and demonstrates our commitment to safe\, consistent\, and professional childcare. \nYou will be provided with the necessary information to deliver a confident\, safe babysitting service during this online session. \n🎯 Learning Objectives\nBy the end of the session\, the participants will be able to: \n\nUnderstand the aim of the service provided to our guests\nFamiliarize with the safeguarding practices\nHave the opportunity to learn the professional babysitting practices we follow in our Group\n\n🎓 Target Audience\nAll seasonal employees of Operations who are confident to interact with families and toddlers in English and work at Sani/Ikos Resorts.
URL:https://hr-saniikos.com/training/babysitting-training-d2d-ir-gr-2/
LOCATION:Ikos Kissamos
CATEGORIES:D2D Sessions
ATTACH;FMTTYPE=image/jpeg:https://hr-saniikos.com/wp-content/uploads/2025/10/Ikos-Resorts_Childcare-on-the-beach-_2880x1919-scaled.jpg
END:VEVENT
BEGIN:VEVENT
DTSTART;TZID=Europe/Athens:20260423T123000
DTEND;TZID=Europe/Athens:20260423T140000
DTSTAMP:20260420T215419
CREATED:20260420T084613Z
LAST-MODIFIED:20260420T084613Z
UID:10000332-1776947400-1776952800@hr-saniikos.com
SUMMARY:Food Safety & Hygiene GR | IR & SR
DESCRIPTION:During this 1.5-hour session\, participants will have the opportunity to build the knowledge\, confidence\, and facilitation skills required to effectively cascade essential Food Safety & Hygiene standards and practices across their teams. \nInternal training on Food Safety & Hygiene remains mandatory under our HACCP and ISO 22000:2018 procedures\, and is intended to further support alignment and consistency across all departments handling food. \nDelivered by Sotiris Milonas in collaboration with our external partner Evangelos Panagiotou\, the session is designed for all food service handlers\, bars and warehouse operations\, regardless of hotel\, outlet\, level or position. \nThe session will be delivered live online through Microsoft Teams.
URL:https://hr-saniikos.com/training/food-safety-hygiene-gr-ir-sr-4/
LOCATION:Ikos Aria
CATEGORIES:Food & Safety
ATTACH;FMTTYPE=image/jpeg:https://hr-saniikos.com/wp-content/uploads/2026/03/Green_2880x1920-scaled.jpg
END:VEVENT
BEGIN:VEVENT
DTSTART;VALUE=DATE:20261101
DTEND;VALUE=DATE:20261102
DTSTAMP:20260420T215419
CREATED:20251008T093548Z
LAST-MODIFIED:20251009T064643Z
UID:10000021-1793491200-1793577599@hr-saniikos.com
SUMMARY:Closing IOC / IOL / IDA / IOD / IAR / IKI / SB / SC / PS / SA / SD
DESCRIPTION:
URL:https://hr-saniikos.com/training/closing-sani-asterias/
LOCATION:Sani Asterias
CATEGORIES:- Dates to Remember -
END:VEVENT
END:VCALENDAR